Felt | Verdi |
AlreadyApplied | True |
Aperture | 10.0 |
ApertureValue | 10.0 |
ApproximateFocusDistance | 4294967295 |
AutoLateralCA | 0 |
AutoWhiteVersion | 134348800 |
BitsPerSample | 8 |
Blacks2012 | -30 |
BlueHue | 0 |
BlueSaturation | 0 |
CameraProfile | Adobe Standard |
CFAPattern | [Red,Green][Green,Blue] |
CircGradBasedCorrActive | true |
CircGradBasedCorrAmount | 1.000000 |
CircGradBasedCorrBrightness | 0.000000 |
CircGradBasedCorrClarity2012 | 0.750454 |
CircGradBasedCorrContrast2012 (1) | -0.252271 |
CircGradBasedCorrContrast2012 | -0.489462 |
CircGradBasedCorrDefringe | 0.000000 |
CircGradBasedCorrExposure2012 (1) | 0.042696 |
CircGradBasedCorrExposure2012 (2) | 0.081759 |
CircGradBasedCorrExposure2012 | 0.169786 |
CircGradBasedCorrHighlights2012 | -0.747184 |
CircGradBasedCorrHue | 0.000000 |
CircGradBasedCorrLocalBlacks2012 | -0.083576 |
CircGradBasedCorrLocalDehaze | 0.000000 |
CircGradBasedCorrLocalWhites2012 | 0.233557 |
CircGradBasedCorrLuminanceNoise | 0.000000 |
CircGradBasedCorrMaskAngle | 0.264504 |
CircGradBasedCorrMaskBottom (1) | 0.485354 |
CircGradBasedCorrMaskBottom (2) | 0.479716 |
CircGradBasedCorrMaskBottom | 0.505065 |
CircGradBasedCorrMaskFeather | +53 |
CircGradBasedCorrMaskFlipped | true |
CircGradBasedCorrMaskLeft (1) | 0.191523 |
CircGradBasedCorrMaskLeft (2) | 0.411147 |
CircGradBasedCorrMaskLeft | 0.125608 |
CircGradBasedCorrMaskMidpoint | +50 |
CircGradBasedCorrMaskRight (1) | 0.763683 |
CircGradBasedCorrMaskRight (2) | 0.635818 |
CircGradBasedCorrMaskRight | 0.802133 |
CircGradBasedCorrMaskRoundness | 0 |
CircGradBasedCorrMaskTop (1) | 0.335565 |
CircGradBasedCorrMaskTop (2) | 0.402256 |
CircGradBasedCorrMaskTop | 0.481202 |
CircGradBasedCorrMaskValue | 1.000000 |
CircGradBasedCorrMaskVersion | +2 |
CircGradBasedCorrMaskWhat | Mask/CircularGradient |
CircGradBasedCorrMoire | 0.000000 |
CircGradBasedCorrSaturation (3) | 0.258812 |
CircGradBasedCorrSaturation | 0.000000 |
CircGradBasedCorrShadows2012 | 0.873910 |
CircGradBasedCorrSharpness | 0.000000 |
CircGradBasedCorrTemperature (2) | 0.138536 |
CircGradBasedCorrTemperature | 0.000000 |
CircGradBasedCorrTint | 0.000000 |
CircGradBasedCorrWhat | Correction |
CircleOfConfusion | 0.030 mm |
Clarity2012 | -38 |
ColorComponents | 3 |
ColorNoiseReduction | 25 |
ColorNoiseReductionDetail | 50 |
ColorNoiseReductionSmoothness | 50 |
ColorSpace | sRGB |
ColorTemperature | 5700 |
ColorTransform | YCbCr |
Contrast | Normal |
Contrast2012 | +32 |
ConvertToGrayscale | False |
CreateDate (1) | 2018:04:23 14:52:51.30 |
CreateDate | 2018:04:23 14:52:51 |
CreatorTool | Adobe Photoshop Lightroom 6.8 (Macintosh) |
CropAngle | 0.264504 |
CropBottom | 0.681459 |
CropConstrainToWarp | 0 |
CropLeft | 0.004577 |
CropRight | 0.996018 |
CropTop | 0.125614 |
CustomRendered | Normal |
DateCreated (1) | 2018:04:23 |
DateCreated | 2018:04:23 14:52:51.30 |
DateTimeOriginal | 2018:04:23 14:52:51 |
DefringeGreenAmount | 0 |
DefringeGreenHueHi | 60 |
DefringeGreenHueLo | 40 |
DefringePurpleAmount | 0 |
DefringePurpleHueHi | 70 |
DefringePurpleHueLo | 30 |
Dehaze | 0 |
DigitalZoomRatio | 1 |
DOF | inf (2.61 m - inf) |
Exposure2012 | -0.15 |
ExposureCompensation | +1/3 |
ExposureMode | Manual |
ExposureProgram | Manual |
ExposureTime | 1/60 |
Flash | Off, Did not fire |
FNumber | 10.0 |
FocalLength | 28.0 mm |
FocalLength35efl | 28.0 mm (35 mm equivalent: 28.0 mm) |
FocalLengthIn35mmFormat | 28 mm |
Format | image/jpeg |
FOV | 65.5 deg |
GainControl | None |
GradientBasedCorrActive | true |
GradientBasedCorrAmount | 1.000000 |
GradientBasedCorrBrightness | 0.000000 |
GradientBasedCorrClarity2012 | 0.750454 |
GradientBasedCorrContrast2012 | -0.489462 |
GradientBasedCorrDefringe | 0.000000 |
GradientBasedCorrExposure2012 (1) | -0.180959 |
GradientBasedCorrExposure2012 (2) | 0.046602 |
GradientBasedCorrExposure2012 | -0.085029 |
GradientBasedCorrHighlights2012 | -0.747184 |
GradientBasedCorrHue | 0.000000 |
GradientBasedCorrLocalBlacks2012 (1) | -0.206486 |
GradientBasedCorrLocalBlacks2012 | -0.083576 |
GradientBasedCorrLocalDehaze | 0.000000 |
GradientBasedCorrLocalWhites2012 | 0.233557 |
GradientBasedCorrLuminanceNoise | 0.000000 |
GradientBasedCorrMaskFullX (1) | 0.654126 |
GradientBasedCorrMaskFullX (2) | 0.575162 |
GradientBasedCorrMaskFullX | 0.612556 |
GradientBasedCorrMaskFullY (1) | 0.153219 |
GradientBasedCorrMaskFullY (2) | 0.541170 |
GradientBasedCorrMaskFullY | 0.124445 |
GradientBasedCorrMaskValue | 1.000000 |
GradientBasedCorrMaskWhat | Mask/Gradient |
GradientBasedCorrMaskZeroX (1) | 0.652962 |
GradientBasedCorrMaskZeroX (2) | 0.575748 |
GradientBasedCorrMaskZeroX | 0.612525 |
GradientBasedCorrMaskZeroY (1) | 0.419582 |
GradientBasedCorrMaskZeroY (2) | 0.420993 |
GradientBasedCorrMaskZeroY | 0.266717 |
GradientBasedCorrMoire | 0.000000 |
GradientBasedCorrSaturation (1) | 0.277071 |
GradientBasedCorrSaturation (3) | 0.177871 |
GradientBasedCorrSaturation (5) | -0.149618 |
GradientBasedCorrSaturation | 0.000000 |
GradientBasedCorrShadows2012 | 0.873910 |
GradientBasedCorrSharpness | 0.000000 |
GradientBasedCorrTemperature (1) | -0.204851 |
GradientBasedCorrTemperature (2) | -0.298601 |
GradientBasedCorrTemperature | -0.146348 |
GradientBasedCorrTint | 0.000000 |
GradientBasedCorrWhat | Correction |
GrainAmount | 0 |
GreenHue | 0 |
GreenSaturation | 0 |
HasCrop | True |
HasSettings | True |
Highlights2012 | -98 |
HueAdjustmentAqua | 0 |
HueAdjustmentBlue | 0 |
HueAdjustmentGreen | 0 |
HueAdjustmentMagenta | 0 |
HueAdjustmentOrange | -65 |
HueAdjustmentPurple | 0 |
HueAdjustmentRed | -28 |
HueAdjustmentYellow | -74 |
HyperfocalDistance | 2.61 m |
ImageHeight | 2205 |
ImageNumber | 60154 |
ImageSize | 5975x2205 |
ImageWidth | 5975 |
ISO | 125 |
Lens | 28.0-300.0 mm f/3.5-5.6 |
LensID (1) | 165 |
LensID | AF-S Nikkor 28-300mm f/3.5-5.6G ED VR |
LensInfo | 28-300mm f/3.5-5.6 |
LensManualDistortionAmount | 0 |
LensModel | 28.0-300.0 mm f/3.5-5.6 |
LensProfileEnable | 0 |
LensProfileSetup | LensDefaults |
LightSource | Unknown |
LightValue | 12.2 |
LuminanceAdjustmentAqua | 0 |
LuminanceAdjustmentBlue | 0 |
LuminanceAdjustmentGreen | 0 |
LuminanceAdjustmentMagenta | 0 |
LuminanceAdjustmentOrange | 0 |
LuminanceAdjustmentPurple | 0 |
LuminanceAdjustmentRed | 0 |
LuminanceAdjustmentYellow | 0 |
LuminanceSmoothing | 0 |
Make | NIKON CORPORATION |
MaxApertureValue | 3.5 |
Megapixels | 13.2 |
MeteringMode | Multi-segment |
Model | NIKON D610 |
ModifyDate (1) | 2018:04:25 17:13:36+02:00 |
ModifyDate | 2018:04:25 17:13:36 |
PaintCorrectionActive | true |
PaintCorrectionAmount | 1.000000 |
PaintCorrectionBrightness | 0.000000 |
PaintCorrectionClarity2012 | 0.750454 |
PaintCorrectionContrast2012 | -0.489462 |
PaintCorrectionDefringe | 0.000000 |
PaintCorrectionExposure2012 (1) | 0.046602 |
PaintCorrectionExposure2012 (2) | 0.045876 |
PaintCorrectionExposure2012 (3) | 0.019531 |
PaintCorrectionExposure2012 | 0.082395 |
PaintCorrectionHighlights2012 | -0.747184 |
PaintCorrectionHue | 0.000000 |
PaintCorrectionLocalBlacks2012 | -0.083576 |
PaintCorrectionLocalDehaze | 0.000000 |
PaintCorrectionLocalWhites2012 | 0.233557 |
PaintCorrectionLuminanceNoise | 0.000000 |
PaintCorrectionMaskCenterWeight | 0.127637 |
PaintCorrectionMaskFlow | 0.977324 |
PaintCorrectionMaskRadius (1) | 0.036295 |
PaintCorrectionMaskRadius (3) | 0.005151 |
PaintCorrectionMaskRadius | 0.006316 |
PaintCorrectionMaskValue | 1.000000 |
PaintCorrectionMaskWhat | Mask/Paint |
PaintCorrectionMoire | 0.000000 |
PaintCorrectionSaturation (1) | 0.284520 |
PaintCorrectionSaturation | 0.000000 |
PaintCorrectionShadows2012 | 0.873910 |
PaintCorrectionSharpness | 0.000000 |
PaintCorrectionTemperature (1) | 0.175600 |
PaintCorrectionTemperature (2) | -0.010719 |
PaintCorrectionTemperature (3) | 0.000000 |
PaintCorrectionTemperature | -0.012991 |
PaintCorrectionTint | 0.000000 |
PaintCorrectionWhat | Correction |
ParametricDarks | 0 |
ParametricHighlights | 0 |
ParametricHighlightSplit | 75 |
ParametricLights | 0 |
ParametricMidtoneSplit | 50 |
ParametricShadows | 0 |
ParametricShadowSplit | 25 |
PerspectiveAspect | 0 |
PerspectiveHorizontal | 0 |
PerspectiveRotate | 0.0 |
PerspectiveScale | 100 |
PerspectiveUpright | 0 |
PerspectiveVertical | 0 |
PerspectiveX | 0.00 |
PerspectiveY | 0.00 |
PostCropVignetteAmount | 0 |
ProcessVersion | 6.7 |
ProfileDescription | sRGB IEC61966-2.1 |
RedHue | 0 |
RedSaturation | 0 |
Saturation (1) | +18 |
Saturation | Normal |
SaturationAdjustmentAqua | 0 |
SaturationAdjustmentBlue | 0 |
SaturationAdjustmentGreen | 0 |
SaturationAdjustmentMagenta | 0 |
SaturationAdjustmentOrange | 0 |
SaturationAdjustmentPurple | 0 |
SaturationAdjustmentRed | 0 |
SaturationAdjustmentYellow | 0 |
ScaleFactor35efl | 1.0 |
SceneCaptureType | Standard |
SceneType | Directly photographed |
SensingMethod | One-chip color area |
SensitivityType | Recommended Exposure Index |
SerialNumber | 2032347 |
Shadows2012 | +48 |
ShadowTint | 0 |
SharpenDetail | 25 |
SharpenEdgeMasking | 0 |
SharpenRadius | +1.0 |
Sharpness (1) | 25 |
Sharpness | Normal |
ShutterSpeed | 1/60 |
ShutterSpeedValue | 1/60 |
Software | Adobe Photoshop Lightroom 6.8 (Macintosh) |
SplitToningBalance | 0 |
SplitToningHighlightHue | 0 |
SplitToningHighlightSaturation | 0 |
SplitToningShadowHue | 0 |
SplitToningShadowSaturation | 0 |
SubjectDistanceRange | Unknown |
Tint | +9 |
ToneCurve | 0, 0, 255, 255 |
ToneCurveBlue | 0, 0, 255, 255 |
ToneCurveGreen | 0, 0, 255, 255 |
ToneCurveName | Linear |
ToneCurveName2012 | Linear |
ToneCurvePV2012 | 0, 0, 255, 255 |
ToneCurvePV2012Blue | 0, 0, 255, 255 |
ToneCurvePV2012Green | 0, 0, 255, 255 |
ToneCurvePV2012Red | 0, 0, 255, 255 |
ToneCurveRed | 0, 0, 255, 255 |
ToneMapStrength | 0 |
Version | 9.8 |
Vibrance | 0 |
VignetteAmount | 0 |
WhiteBalance (1) | As Shot |
WhiteBalance | Auto |
Whites2012 | +11 |