Felt | Verdi |
AlreadyApplied | True |
Aperture | 14.0 |
ApertureValue | 14.0 |
Artist | John Petter Elvan |
AutoLateralCA | 0 |
BitsPerSample | 8 |
Blacks2012 | -9 |
BlueHue | 0 |
BlueSaturation | 0 |
By-line | John Petter Elvan |
CameraProfile | Camera Natural |
Caption-Abstract | OLYMPUS DIGITAL CAMERA |
CFAPattern | [Red,Green][Green,Blue] |
CircleOfConfusion | 0.015 mm |
Clarity2012 | 0 |
ColorComponents | 3 |
ColorNoiseReduction | 25 |
ColorNoiseReductionDetail | 50 |
ColorNoiseReductionSmoothness | 50 |
ColorSpace | sRGB |
ColorTemperature | 8600 |
ColorTransform | YCbCr |
Contrast | Normal |
Contrast2012 | 0 |
ConvertToGrayscale | False |
Copyright | John Petter Elvan |
CopyrightNotice | John Petter Elvan |
CreateDate | 2018:01:14 14:14:14 |
Creator | John Petter Elvan |
CreatorTool | Adobe Photoshop Lightroom Classic 7.1 (Windows) |
CropAngle | -0.314 |
CropBottom | 0.963139 |
CropConstrainToWarp | 0 |
CropLeft | 0 |
CropRight | 0.803856 |
CropTop | 0.168423 |
CustomRendered | Normal |
DateCreated (1) | 2018:01:14 |
DateCreated | 2018:01:14 14:14:14 |
DateTimeOriginal | 2018:01:14 14:14:14 |
DefringeGreenAmount | 0 |
DefringeGreenHueHi | 60 |
DefringeGreenHueLo | 40 |
DefringePurpleAmount | 0 |
DefringePurpleHueHi | 70 |
DefringePurpleHueLo | 30 |
Dehaze | +10 |
Description | OLYMPUS DIGITAL CAMERA |
DigitalZoomRatio | 1 |
DistortionCorrectionAlreadyApplied | True |
Exposure2012 | +0.20 |
ExposureCompensation | 0 |
ExposureMode | Auto |
ExposureProgram | Shutter speed priority AE |
ExposureTime | 1 |
Flash | On, Did not fire |
FlashCompensation | 0 |
FNumber | 14.0 |
FocalLength | 24.0 mm |
FocalLength35efl | 24.0 mm (35 mm equivalent: 48.0 mm) |
FocalLengthIn35mmFormat | 48 mm |
Format | image/jpeg |
FOV | 41.1 deg |
GainControl | None |
GrainAmount | 0 |
GreenHue | 0 |
GreenSaturation | 0 |
HasCrop | True |
HasSettings | True |
Highlights2012 | -100 |
HueAdjustmentAqua | 0 |
HueAdjustmentBlue | 0 |
HueAdjustmentGreen | 0 |
HueAdjustmentMagenta | 0 |
HueAdjustmentOrange | 0 |
HueAdjustmentPurple | 0 |
HueAdjustmentRed | 0 |
HueAdjustmentYellow | 0 |
HyperfocalDistance | 2.74 m |
ImageDescription | OLYMPUS DIGITAL CAMERA |
ImageHeight | 960 |
ImageSize | 1280x960 |
ImageWidth | 1280 |
ISO | 200 |
LateralChromaticAberrationCorrectionAlreadyApplied | True |
Lens | OLYMPUS M.12-100mm F4.0 |
LensInfo | 12-100mm f/4 |
LensManualDistortionAmount | 0 |
LensModel | OLYMPUS M.12-100mm F4.0 |
LensProfileEnable | 0 |
LensProfileSetup | LensDefaults |
LensSerialNumber | ACC223879 |
LightSource | Unknown |
LightValue | 6.6 |
LuminanceAdjustmentAqua | 0 |
LuminanceAdjustmentBlue | 0 |
LuminanceAdjustmentGreen | 0 |
LuminanceAdjustmentMagenta | 0 |
LuminanceAdjustmentOrange | 0 |
LuminanceAdjustmentPurple | 0 |
LuminanceAdjustmentRed | 0 |
LuminanceAdjustmentYellow | 0 |
LuminanceNoiseReductionContrast | 0 |
LuminanceNoiseReductionDetail | 50 |
LuminanceSmoothing | 20 |
Make | OLYMPUS CORPORATION |
MaxApertureValue | 4.0 |
Megapixels | 1.2 |
MeteringMode | Multi-segment |
Model | E-M1MarkII |
ModifyDate (1) | 2018:01:14 19:13:54+01:00 |
ModifyDate | 2018:01:14 19:13:54 |
ParametricDarks | 0 |
ParametricHighlights | 0 |
ParametricHighlightSplit | 75 |
ParametricLights | 0 |
ParametricMidtoneSplit | 50 |
ParametricShadows | 0 |
ParametricShadowSplit | 25 |
PerspectiveAspect | 0 |
PerspectiveHorizontal | 0 |
PerspectiveRotate | 0.0 |
PerspectiveScale | 100 |
PerspectiveUpright | 0 |
PerspectiveVertical | 0 |
PerspectiveX | 0.00 |
PerspectiveY | 0.00 |
PostCropVignetteAmount | 0 |
ProcessVersion | 10.0 |
ProfileDescription | sRGB IEC61966-2.1 |
RedHue | 0 |
RedSaturation | 0 |
Rights | John Petter Elvan |
Saturation (1) | 0 |
Saturation | Normal |
SaturationAdjustmentAqua | 0 |
SaturationAdjustmentBlue | 0 |
SaturationAdjustmentGreen | 0 |
SaturationAdjustmentMagenta | 0 |
SaturationAdjustmentOrange | 0 |
SaturationAdjustmentPurple | 0 |
SaturationAdjustmentRed | 0 |
SaturationAdjustmentYellow | 0 |
ScaleFactor35efl | 2.0 |
SceneCaptureType | Standard |
SensitivityType | Standard Output Sensitivity |
SerialNumber | BHUA48078 |
Shadows2012 | +80 |
ShadowTint | 0 |
SharpenDetail | 25 |
SharpenEdgeMasking | 0 |
SharpenRadius | +1.0 |
Sharpness (1) | 50 |
Sharpness | Normal |
ShutterSpeed | 1 |
ShutterSpeedValue | 1 |
Software | Adobe Photoshop Lightroom Classic 7.1 (Windows) |
SplitToningBalance | 0 |
SplitToningHighlightHue | 0 |
SplitToningHighlightSaturation | 0 |
SplitToningShadowHue | 0 |
SplitToningShadowSaturation | 0 |
Tint | +7 |
ToneCurve | 0, 0, 255, 255 |
ToneCurveBlue | 0, 0, 255, 255 |
ToneCurveGreen | 0, 0, 255, 255 |
ToneCurveName | Linear |
ToneCurveName2012 | Linear |
ToneCurvePV2012 | 0, 0, 255, 255 |
ToneCurvePV2012Blue | 0, 0, 255, 255 |
ToneCurvePV2012Green | 0, 0, 255, 255 |
ToneCurvePV2012Red | 0, 0, 255, 255 |
ToneCurveRed | 0, 0, 255, 255 |
Version | 10.1 |
Vibrance | 0 |
VignetteAmount | 0 |
WhiteBalance (1) | Custom |
WhiteBalance | Auto |
Whites2012 | +70 |