Felt | Verdi |
AlreadyApplied | True |
Aperture | 2.5 |
ApertureValue | 2.5 |
ApproximateFocusDistance | 1.11 |
Artist | Svein Martin Kvalvaag |
AutoLateralCA | 0 |
AutoWhiteVersion | 134348800 |
BitsPerSample | 8 |
Blacks2012 | -14 |
BlueHue | 0 |
BlueSaturation | 0 |
By-line | Svein Martin Kvalvaag |
CameraProfile | Adobe Standard |
CircleOfConfusion | 0.027 mm |
Clarity2012 | +30 |
ColorComponents | 3 |
ColorNoiseReduction | 0 |
ColorSpace | sRGB |
ColorTemperature | 5687 |
ColorTransform | YCbCr |
Contrast2012 | +20 |
ConvertToGrayscale | False |
CreateDate (1) | 2017:11:05 14:54:48.38 |
CreateDate | 2017:11:05 14:54:48 |
Creator | Svein Martin Kvalvaag |
CreatorTool | Adobe Photoshop Lightroom 6.12 (Macintosh) |
CropAngle | -2.72885 |
CropBottom | 0.932131 |
CropConstrainToWarp | 0 |
CropLeft | 0.02313 |
CropRight | 0.935048 |
CropTop | 0.070859 |
CustomRendered | Normal |
DateCreated (1) | 2017:11:05 |
DateCreated | 2017:11:05 14:54:48.38 |
DateTimeOriginal | 2017:11:05 14:54:48 |
DefringeGreenAmount | 0 |
DefringeGreenHueHi | 60 |
DefringeGreenHueLo | 40 |
DefringePurpleAmount | 0 |
DefringePurpleHueHi | 70 |
DefringePurpleHueLo | 30 |
Dehaze | 0 |
DOF | 0.06 m (1.08 - 1.14 m) |
Exposure2012 | -0.25 |
ExposureCompensation | 0 |
ExposureMode | Manual |
ExposureProgram | Manual |
ExposureTime | 1/250 |
Firmware | 1.3.4 |
Flash | Off, Did not fire |
FlashCompensation | 0 |
FNumber | 2.5 |
FocalLength | 50.0 mm |
FocalLength35efl | 50.0 mm (35 mm equivalent: 55.8 mm) |
Format | image/jpeg |
FOV | 35.8 deg |
GradientBasedCorrActive | true |
GradientBasedCorrAmount | 1.000000 |
GradientBasedCorrBrightness | 0.000000 |
GradientBasedCorrClarity2012 | 0.000000 |
GradientBasedCorrContrast2012 | 0.000000 |
GradientBasedCorrDefringe | 0.000000 |
GradientBasedCorrExposure2012 | 0.000000 |
GradientBasedCorrHighlights2012 | 0.000000 |
GradientBasedCorrHue | 240.000000 |
GradientBasedCorrLuminanceNoise | 0.000000 |
GradientBasedCorrMaskFullX (1) | 0.579972 |
GradientBasedCorrMaskFullX (2) | 1.126200 |
GradientBasedCorrMaskFullX | 1.025740 |
GradientBasedCorrMaskFullY (1) | 0.535638 |
GradientBasedCorrMaskFullY (2) | 0.977939 |
GradientBasedCorrMaskFullY | 0.121919 |
GradientBasedCorrMaskValue | 1.000000 |
GradientBasedCorrMaskWhat | Mask/Gradient |
GradientBasedCorrMaskZeroX (1) | -0.220860 |
GradientBasedCorrMaskZeroX (2) | 0.493522 |
GradientBasedCorrMaskZeroX | 0.477136 |
GradientBasedCorrMaskZeroY (1) | 0.492297 |
GradientBasedCorrMaskZeroY (2) | 0.762201 |
GradientBasedCorrMaskZeroY | 0.262145 |
GradientBasedCorrMoire | 0.000000 |
GradientBasedCorrSaturation | 0.000000 |
GradientBasedCorrShadows2012 | 0.000000 |
GradientBasedCorrSharpness | 0.000000 |
GradientBasedCorrTemperature | 0.000000 |
GradientBasedCorrTint | 0.000000 |
GradientBasedCorrWhat | Correction |
GrainAmount | 0 |
GreenHue | 0 |
GreenSaturation | 0 |
HasCrop | True |
HasExtendedXMP | E58FFEF26CA6FBF09A3D97C36AFE9B7F |
HasSettings | True |
Highlights2012 | -33 |
HueAdjustmentAqua | 0 |
HueAdjustmentBlue | +5 |
HueAdjustmentGreen | 0 |
HueAdjustmentMagenta | 0 |
HueAdjustmentOrange | 0 |
HueAdjustmentPurple | 0 |
HueAdjustmentRed | +14 |
HueAdjustmentYellow | 0 |
HyperfocalDistance | 37.13 m |
ImageHeight | 5088 |
ImageNumber | 0 |
ImageSize | 3553x5088 |
ImageWidth | 3553 |
ISO | 250 |
Lens | EF50mm f/1.2L USM |
LensID (1) | 241 |
LensID | Canon EF 50mm f/1.2L USM |
LensInfo | 50mm f/? |
LensManualDistortionAmount | 0 |
LensModel | EF50mm f/1.2L USM |
LensProfileEnable | 0 |
LensProfileSetup | LensDefaults |
LensSerialNumber | 0000803292 |
LightValue | 9.3 |
LuminanceAdjustmentAqua | 0 |
LuminanceAdjustmentBlue | 0 |
LuminanceAdjustmentGreen | 0 |
LuminanceAdjustmentMagenta | 0 |
LuminanceAdjustmentOrange | -15 |
LuminanceAdjustmentPurple | 0 |
LuminanceAdjustmentRed | +12 |
LuminanceAdjustmentYellow | 0 |
LuminanceSmoothing | 0 |
Make | Canon |
MaxApertureValue | 1.2 |
Megapixels | 18.1 |
MeteringMode | Multi-segment |
Model | Canon EOS 5D Mark III |
ModifyDate (1) | 2017:11:08 18:12:12+01:00 |
ModifyDate | 2017:11:08 18:12:12 |
OwnerName | Svein Martin Kvalvaag |
PaintCorrectionActive | true |
PaintCorrectionAmount | 1.000000 |
PaintCorrectionBrightness (1) | 0.048780 |
PaintCorrectionBrightness | 0.000000 |
PaintCorrectionClarity2012 (1) | -0.098000 |
PaintCorrectionClarity2012 (2) | 0.317855 |
PaintCorrectionClarity2012 (3) | -0.168064 |
PaintCorrectionClarity2012 (4) | 0.057641 |
PaintCorrectionClarity2012 (5) | -0.023525 |
PaintCorrectionClarity2012 (6) | 0.000000 |
PaintCorrectionClarity2012 | 0.064154 |
PaintCorrectionContrast2012 (1) | -0.049000 |
PaintCorrectionContrast2012 (2) | 0.052317 |
PaintCorrectionContrast2012 (3) | 0.057470 |
PaintCorrectionContrast2012 (4) | 0.091082 |
PaintCorrectionContrast2012 (5) | -0.343838 |
PaintCorrectionContrast2012 (6) | 0.159339 |
PaintCorrectionContrast2012 | 0.000000 |
PaintCorrectionDefringe | 0.000000 |
PaintCorrectionExposure2012 (1) | 0.039414 |
PaintCorrectionExposure2012 (2) | 0.044680 |
PaintCorrectionExposure2012 (3) | -0.005526 |
PaintCorrectionExposure2012 (4) | 0.013910 |
PaintCorrectionExposure2012 (5) | 0.039765 |
PaintCorrectionExposure2012 (6) | -0.162791 |
PaintCorrectionExposure2012 | 0.183915 |
PaintCorrectionHighlights2012 (2) | 0.140537 |
PaintCorrectionHighlights2012 (3) | -0.103450 |
PaintCorrectionHighlights2012 (4) | 0.064691 |
PaintCorrectionHighlights2012 (6) | -0.150330 |
PaintCorrectionHighlights2012 | 0.000000 |
PaintCorrectionHue (1) | 163.000000 |
PaintCorrectionHue (2) | 240.000000 |
PaintCorrectionHue (3) | 340.000000 |
PaintCorrectionHue (4) | 52.000000 |
PaintCorrectionHue (5) | 187.218994 |
PaintCorrectionHue (6) | 33.894501 |
PaintCorrectionHue | 59.000000 |
PaintCorrectionLocalBlacks2012 (3) | -0.045827 |
PaintCorrectionLocalBlacks2012 | 0.000000 |
PaintCorrectionLocalDehaze | 0.000000 |
PaintCorrectionLocalWhites2012 | 0.000000 |
PaintCorrectionLuminanceNoise (3) | 0.103450 |
PaintCorrectionLuminanceNoise (6) | 0.000000 |
PaintCorrectionLuminanceNoise | 0.159559 |
PaintCorrectionMaskCenterWeight | 0.000000 |
PaintCorrectionMaskFlow | 0.384590 |
PaintCorrectionMaskRadius (1) | 0.014012 |
PaintCorrectionMaskRadius (10) | 0.042052 |
PaintCorrectionMaskRadius (3) | 0.021843 |
PaintCorrectionMaskRadius (4) | 0.007801 |
PaintCorrectionMaskRadius (5) | 0.031211 |
PaintCorrectionMaskRadius (6) | 0.117084 |
PaintCorrectionMaskRadius (7) | 0.023937 |
PaintCorrectionMaskRadius (8) | 0.095785 |
PaintCorrectionMaskRadius | 0.102778 |
PaintCorrectionMaskValue | 1.000000 |
PaintCorrectionMaskWhat | Mask/Paint |
PaintCorrectionMoire | 0.000000 |
PaintCorrectionSaturation (1) | -0.077598 |
PaintCorrectionSaturation (11) | -0.143895 |
PaintCorrectionSaturation (12) | 0.035039 |
PaintCorrectionSaturation (2) | 0.090000 |
PaintCorrectionSaturation (5) | 0.103450 |
PaintCorrectionSaturation (7) | 0.034680 |
PaintCorrectionSaturation (8) | 0.050472 |
PaintCorrectionSaturation | 0.000000 |
PaintCorrectionShadows2012 (1) | 0.210202 |
PaintCorrectionShadows2012 (3) | -0.140625 |
PaintCorrectionShadows2012 (4) | 0.331555 |
PaintCorrectionShadows2012 (5) | 0.662219 |
PaintCorrectionShadows2012 (6) | -0.255632 |
PaintCorrectionShadows2012 | 0.000000 |
PaintCorrectionSharpness (2) | 0.235165 |
PaintCorrectionSharpness (3) | -0.103450 |
PaintCorrectionSharpness | 0.000000 |
PaintCorrectionTemperature (1) | 0.036581 |
PaintCorrectionTemperature (3) | 0.091082 |
PaintCorrectionTemperature (4) | 0.006860 |
PaintCorrectionTemperature (6) | 0.256722 |
PaintCorrectionTemperature | 0.000000 |
PaintCorrectionTint (1) | -0.051352 |
PaintCorrectionTint (3) | 0.076410 |
PaintCorrectionTint (6) | 0.350563 |
PaintCorrectionTint | 0.000000 |
PaintCorrectionWhat | Correction |
ParametricDarks | +22 |
ParametricHighlights | -7 |
ParametricHighlightSplit | 75 |
ParametricLights | 0 |
ParametricMidtoneSplit | 50 |
ParametricShadows | +16 |
ParametricShadowSplit | 25 |
PerspectiveAspect | 0 |
PerspectiveHorizontal | 0 |
PerspectiveRotate | 0.0 |
PerspectiveScale | 100 |
PerspectiveUpright | 0 |
PerspectiveVertical | 0 |
PerspectiveX | 0.00 |
PerspectiveY | 0.00 |
PostCropVignetteAmount | 0 |
ProcessVersion | 6.7 |
ProfileDescription | sRGB IEC61966-2.1 |
RecommendedExposureIndex | 250 |
RedHue | 0 |
RedSaturation | 0 |
Saturation | 0 |
SaturationAdjustmentAqua | 0 |
SaturationAdjustmentBlue | +31 |
SaturationAdjustmentGreen | 0 |
SaturationAdjustmentMagenta | 0 |
SaturationAdjustmentOrange | +10 |
SaturationAdjustmentPurple | 0 |
SaturationAdjustmentRed | +20 |
SaturationAdjustmentYellow | 0 |
ScaleFactor35efl | 1.1 |
SceneCaptureType | Standard |
SensitivityType | Recommended Exposure Index |
SerialNumber | 063024008785 |
Shadows2012 | -12 |
ShadowTint | 0 |
SharpenDetail | 25 |
SharpenEdgeMasking | 0 |
SharpenRadius | +1.0 |
Sharpness | 25 |
ShutterSpeed | 1/250 |
ShutterSpeedValue | 1/250 |
Software | Adobe Photoshop Lightroom 6.12 (Macintosh) |
SplitToningBalance | 0 |
SplitToningHighlightHue | 30 |
SplitToningHighlightSaturation | 4 |
SplitToningShadowHue | 225 |
SplitToningShadowSaturation | 20 |
Tint | -2 |
ToneCurve | 0, 0, 255, 255 |
ToneCurveBlue | 0, 0, 255, 255 |
ToneCurveGreen | 0, 0, 255, 255 |
ToneCurveName | Linear |
ToneCurveName2012 | Custom |
ToneCurvePV2012 | 0, 27, 52, 47, 125, 127, 195, 203, 255, 249 |
ToneCurvePV2012Blue | 0, 0, 129, 125, 255, 255 |
ToneCurvePV2012Green | 0, 0, 130, 136, 255, 255 |
ToneCurvePV2012Red | 0, 0, 156, 165, 255, 255 |
ToneCurveRed | 0, 0, 255, 255 |
ToneMapStrength | 0 |
Version | 9.12 |
Vibrance | 0 |
VignetteAmount | 0 |
WhiteBalance (1) | Custom |
WhiteBalance | Auto |
Whites2012 | 0 |