Felt | Verdi |
AlreadyApplied | True |
Aperture | 16.0 |
ApertureValue | 16.0 |
ApproximateFocusDistance | 4294967295 |
Artist | www.dpc.photo |
AutoLateralCA | 1 |
AutoWhiteVersion | 134348800 |
BitsPerSample (1) | 16 16 16 |
BitsPerSample | 8 |
Blacks2012 | -10 |
BlueHue | 0 |
BlueSaturation | +36 |
By-line | www.dpc.photo |
CameraProfile | Adobe Standard |
CFAPattern | [Red,Green][Green,Blue] |
CircleOfConfusion | 0.020 mm |
Clarity2012 | +85 |
ColorComponents | 3 |
ColorMode | RGB |
ColorNoiseReduction | 25 |
ColorNoiseReductionDetail | 50 |
ColorNoiseReductionSmoothness | 50 |
ColorSpace | sRGB |
ColorTemperature | 5650 |
ColorTransform | YCbCr |
Contrast | Normal |
Contrast2012 | +10 |
ConvertToGrayscale | True |
Copyright | www.dpc.photo |
CopyrightFlag | True |
CopyrightNotice | www.dpc.photo |
CreateDate | 2017:08:29 12:27:45 |
Creator | www.dpc.photo |
CreatorTool | Adobe Photoshop CC 2015 (Windows) |
CropAngle | 0 |
CropBottom | 0.999998 |
CropConstrainToWarp | 0 |
CropLeft | 0 |
CropRight | 0.666666 |
CropTop | 0 |
CustomRendered | Normal |
DateCreated (1) | 2017:08:29 |
DateCreated | 2017:08:29 12:27:45.059 |
DateTimeOriginal | 2017:08:29 12:27:45 |
Dehaze | 0 |
DigitalZoomRatio | 1 |
DistortionCorrectionAlreadyApplied | True |
DOF | inf (1.01 m - inf) |
ExifImageHeight | 900 |
ExifImageWidth | 900 |
Exposure2012 | +0.20 |
ExposureCompensation | 0 |
ExposureMode | Manual |
ExposureProgram | Manual |
ExposureTime | 0.8 |
Flash | Off, Did not fire |
FNumber | 16.0 |
FocalLength | 18.0 mm |
FocalLength35efl | 18.0 mm (35 mm equivalent: 27.0 mm) |
FocalLengthIn35mmFormat | 27 mm |
Format | image/jpeg |
FOV | 67.4 deg |
GainControl | None |
GrainAmount | 0 |
GrayMixerAqua | -18 |
GrayMixerBlue | +44 |
GrayMixerGreen | -27 |
GrayMixerMagenta | +4 |
GrayMixerOrange | +22 |
GrayMixerPurple | +17 |
GrayMixerRed | -10 |
GrayMixerYellow | +7 |
GreenHue | 0 |
GreenSaturation | 0 |
HasCrop | True |
HasSettings | True |
Highlights2012 | -74 |
HyperfocalDistance | 1.01 m |
ICCProfileName | sRGB IEC61966-2.1 |
ImageHeight (1) | 4000 |
ImageHeight | 900 |
ImageNumber | 32123 |
ImageSize | 900x900 |
ImageWidth (1) | 4000 |
ImageWidth | 900 |
ISO | 100 |
LateralChromaticAberrationCorrectionAlreadyApplied | True |
Lens | 18.0-35.0 mm f/1.8 |
LensID (1) | 139 |
LensID | Sigma 18-35mm F1.8 DC HSM |
LensInfo | 18-35mm f/1.8 |
LensManualDistortionAmount | 0 |
LensModel | 18.0-35.0 mm f/1.8 |
LensProfileChromaticAberrationScale | 100 |
LensProfileDistortionScale | 100 |
LensProfileEnable | 1 |
LensProfileFilename | NIKON CORPORATION (SIGMA 18-35mm F1.8 DC HSM A013) - RAW.lcp |
LensProfileName | Adobe (SIGMA 18-35mm F1.8 DC HSM A013, NIKON CORPORATION) |
LensProfileSetup | LensDefaults |
LensProfileVignettingScale | 100 |
LightSource | Unknown |
LightValue | 8.3 |
LuminanceSmoothing | 0 |
Make | NIKON CORPORATION |
Marked | True |
MaxApertureValue | 1.7 |
Megapixels | 0.810 |
MeteringMode | Multi-segment |
Model | NIKON D7200 |
ModifyDate (1) | 2017:09:03 20:19:52+02:00 |
ModifyDate | 2017:09:03 20:19:52 |
Orientation | Horizontal (normal) |
ParametricDarks | 0 |
ParametricHighlights | -5 |
ParametricHighlightSplit | 75 |
ParametricLights | -5 |
ParametricMidtoneSplit | 50 |
ParametricShadows | 0 |
ParametricShadowSplit | 25 |
PerspectiveAspect | 0 |
PerspectiveHorizontal | 0 |
PerspectiveRotate | 0.0 |
PerspectiveScale | 100 |
PerspectiveUpright | 0 |
PerspectiveVertical | 0 |
PerspectiveX | 0.00 |
PerspectiveY | 0.00 |
PhotometricInterpretation | RGB |
PlanarConfiguration | Chunky |
PostCropVignetteAmount | -10 |
PostCropVignetteFeather | 50 |
PostCropVignetteHighlightContrast | 0 |
PostCropVignetteMidpoint | 50 |
PostCropVignetteRoundness | 0 |
PostCropVignetteStyle | 1 |
ProcessVersion | 6.7 |
ProfileDescription | sRGB IEC61966-2.1 |
Rating | 2 |
RedHue | 0 |
RedSaturation | 0 |
Rights | www.dpc.photo |
SamplesPerPixel | 3 |
Saturation | Normal |
ScaleFactor35efl | 1.5 |
SceneCaptureType | Standard |
SceneType | Directly photographed |
SensingMethod | One-chip color area |
SensitivityType | Recommended Exposure Index |
SerialNumber | 4316999 |
Shadows2012 | +20 |
ShadowTint | 0 |
SharpenDetail | 25 |
SharpenEdgeMasking | 89 |
SharpenRadius | +1.0 |
Sharpness (1) | 75 |
Sharpness | Normal |
ShutterSpeed | 0.8 |
ShutterSpeedValue | 0.8 |
Software | Adobe Photoshop CC 2015 (Windows) |
SplitToningBalance | 0 |
SplitToningHighlightHue | 0 |
SplitToningHighlightSaturation | 0 |
SplitToningShadowHue | 0 |
SplitToningShadowSaturation | 0 |
SubjectDistanceRange | Unknown |
Tint | -20 |
ToneCurve | 0, 0, 255, 255 |
ToneCurveBlue | 0, 0, 255, 255 |
ToneCurveGreen | 0, 0, 255, 255 |
ToneCurveName | Linear |
ToneCurveName2012 | Linear |
ToneCurvePV2012 | 0, 0, 255, 255 |
ToneCurvePV2012Blue | 0, 0, 255, 255 |
ToneCurvePV2012Green | 0, 0, 255, 255 |
ToneCurvePV2012Red | 0, 0, 255, 255 |
ToneCurveRed | 0, 0, 255, 255 |
ToneMapStrength | 0 |
URL_List | |
UserComment | www.dpc.photo |
Version | 9.10 |
VignetteAmount | 0 |
VignetteCorrectionAlreadyApplied | True |
WhiteBalance (1) | Custom |
WhiteBalance | Auto |
Whites2012 | +15 |