Felt | Verdi |
2017-07-30T13:54:29+02:00 Filen D:\PSAutoRecover\Torild\__74A10191C74EA290C4E20B4743D7F785D098394.psb er lagret
2017-07-30T14:04:05+02:00 Filen D:\PSAutoRecover\Torild\__74A10191C74EA290C4E20B4743D7F785D098394.psb er lagret
2017-07-30T14:23:29+02:00 Filen D:\PSAutoRecover\Torild\__74A10191C74EA290C4E20B4743D7F785D098394.psb er lagret
2017-07-30T14:33:05+02:00 Filen D:\PSAutoRecover\Torild\__74A10191C74EA290C4E20B4743D7F785D098394.psb er lagret
2017-07-30T14:42:45+02:00 Filen D:\PSAutoRecover\Torild\__74A10191C74EA290C4E20B4743D7F785D098394.psb er lagret
2017-07-30T14:48:52+02:00 Filen E:\2017\Kine Wenner\Psd kine\_74A1019.psd er lagret
2017-07-30T14:50:02+02:00 Filen E:\2017\Kine Wenner\Psd kine\_74A1019.psd er lagret
2017-07-30T14:52:21+02:00 Filen D:\PSAutoRecover\Torild\__74A1019861C7E1091A460D0657AB098937B0445.psb er lagret
2017-07-30T15:01:57+02:00 Filen D:\PSAutoRecover\Torild\__74A1019861C7E1091A460D0657AB098937B0445.psb er lagret
2017-07-30T15:02:33+02:00 Filen E:\2017\Kine Wenner\Psd kine\_74A1019.psd er lagret
2017-07-30T15:04:20+02:00 Filen E:\2017\Kine Wenner\Psd kine\_74A1019.psd er lagret
2017-07-30T15:05:24+02:00 Filen E:\2017\Kine Wenner\Psd kine\_74A1019.psd er lagret
2017-07-30T15:07:38+02:00 Filen E:\2017\Kine Wenner\jpg kine\_74A1019_bw.jpg er lagret
AlreadyApplied | True |
Aperture | 7.1 |
ApertureValue | 7.1 |
ApproximateFocusDistance | 0.51 |
Artist | Torild Vangen |
AutoLateralCA | 0 |
AutoWhiteVersion | 134348800 |
BitsPerSample | 8 |
Blacks2012 | +7 |
BlueHue | 0 |
BlueSaturation | 0 |
By-line | Torild Vangen |
CameraProfile | Adobe Standard |
CircleOfConfusion | 0.025 mm |
Clarity2012 | 0 |
ColorComponents | 3 |
ColorMode | RGB |
ColorNoiseReduction | 25 |
ColorNoiseReductionDetail | 50 |
ColorNoiseReductionSmoothness | 50 |
ColorSpace | Uncalibrated |
ColorTemperature | 6350 |
ColorTransform | YCbCr |
Contrast2012 | -25 |
ConvertToGrayscale | False |
CreateDate | 2017:07:30 13:20:33 |
Creator | Torild Vangen |
CustomRendered | Normal |
DateCreated (1) | 2017:07:30 |
DateCreated | 2017:07:30 13:20:33.087 |
DateTimeOriginal | 2017:07:30 13:20:33 |
DefringeGreenAmount | 0 |
DefringeGreenHueHi | 60 |
DefringeGreenHueLo | 40 |
DefringePurpleAmount | 0 |
DefringePurpleHueHi | 70 |
DefringePurpleHueLo | 30 |
Dehaze | 0 |
DOF | 0.05 m (0.48 - 0.54 m) |
ExifImageHeight | 3210 |
ExifImageWidth | 4815 |
Exposure2012 | +0.10 |
ExposureCompensation | 0 |
ExposureMode | Manual |
ExposureProgram | Manual |
ExposureTime | 1/160 |
Firmware | 1.3.3 |
Flash | Off, Did not fire |
FlashCompensation | 0 |
FNumber | 7.1 |
FocalLength | 40.0 mm |
FocalLength35efl | 40.0 mm (35 mm equivalent: 47.9 mm) |
Format | image/jpeg |
FOV | 41.2 deg |
GrainAmount | 0 |
GreenHue | 0 |
GreenSaturation | 0 |
HasCrop | False |
HasSettings | True |
Highlights2012 | 0 |
HueAdjustmentAqua | 0 |
HueAdjustmentBlue | 0 |
HueAdjustmentGreen | 0 |
HueAdjustmentMagenta | 0 |
HueAdjustmentOrange | 0 |
HueAdjustmentPurple | 0 |
HueAdjustmentRed | 0 |
HueAdjustmentYellow | 0 |
HyperfocalDistance | 8.97 m |
ICCProfileName | Adobe RGB (1998) |
ImageHeight | 3210 |
ImageNumber | 0 |
ImageSize | 4815x3210 |
ImageWidth | 4815 |
ISO | 100 |
Lens | EF17-40mm f/4L USM |
LensID (1) | 231 |
LensID | Canon EF 17-40mm f/4L USM |
LensInfo | 17-40mm f/? |
LensManualDistortionAmount | 0 |
LensModel | EF17-40mm f/4L USM |
LensProfileEnable | 0 |
LensProfileSetup | LensDefaults |
LensSerialNumber | 0000000000 |
LightValue | 13.0 |
LuminanceAdjustmentAqua | 0 |
LuminanceAdjustmentBlue | 0 |
LuminanceAdjustmentGreen | 0 |
LuminanceAdjustmentMagenta | 0 |
LuminanceAdjustmentOrange | 0 |
LuminanceAdjustmentPurple | 0 |
LuminanceAdjustmentRed | 0 |
LuminanceAdjustmentYellow | 0 |
LuminanceSmoothing | 0 |
Make | Canon |
MaxApertureValue | 4.0 |
Megapixels | 15.5 |
MeteringMode | Spot |
Model | Canon EOS 5D Mark III |
ModifyDate (1) | 2017:07:30 15:07:38+02:00 |
ModifyDate | 2017:07:30 15:07:38 |
Orientation | Horizontal (normal) |
ParametricDarks | 0 |
ParametricHighlights | 0 |
ParametricHighlightSplit | 75 |
ParametricLights | 0 |
ParametricMidtoneSplit | 50 |
ParametricShadows | 0 |
ParametricShadowSplit | 25 |
PerspectiveAspect | 0 |
PerspectiveHorizontal | 0 |
PerspectiveRotate | 0.0 |
PerspectiveScale | 100 |
PerspectiveUpright | 0 |
PerspectiveVertical | 0 |
PerspectiveX | 0.00 |
PerspectiveY | 0.00 |
PostCropVignetteAmount | 0 |
ProcessVersion | 6.7 |
ProfileDescription | Adobe RGB (1998) |
Rating | 0 |
RawFileName | _74A1019.CR2 |
RecommendedExposureIndex | 100 |
RedHue | 0 |
RedSaturation | 0 |
Saturation | 0 |
SaturationAdjustmentAqua | 0 |
SaturationAdjustmentBlue | 0 |
SaturationAdjustmentGreen | 0 |
SaturationAdjustmentMagenta | 0 |
SaturationAdjustmentOrange | 0 |
SaturationAdjustmentPurple | 0 |
SaturationAdjustmentRed | 0 |
SaturationAdjustmentYellow | 0 |
ScaleFactor35efl | 1.2 |
SceneCaptureType | Standard |
SensitivityType | Recommended Exposure Index |
SerialNumber | 033024002594 |
Shadows2012 | +59 |
ShadowTint | 0 |
SharpenDetail | 25 |
SharpenEdgeMasking | 0 |
SharpenRadius | +1.0 |
Sharpness | 25 |
ShutterSpeed | 1/160 |
ShutterSpeedValue | 1/160 |
Software | Adobe Photoshop CC 2017 (Windows) |
SplitToningBalance | 0 |
SplitToningHighlightHue | 0 |
SplitToningHighlightSaturation | 0 |
SplitToningShadowHue | 0 |
SplitToningShadowSaturation | 0 |
Tint | +11 |
ToneCurve | 0, 0, 32, 22, 64, 56, 128, 128, 192, 196, 255, 255 |
ToneCurveBlue | 0, 0, 255, 255 |
ToneCurveGreen | 0, 0, 255, 255 |
ToneCurveName | Medium Contrast |
ToneCurveName2012 | Linear |
ToneCurvePV2012 | 0, 0, 255, 255 |
ToneCurvePV2012Blue | 0, 0, 255, 255 |
ToneCurvePV2012Green | 0, 0, 255, 255 |
ToneCurvePV2012Red | 0, 0, 255, 255 |
ToneCurveRed | 0, 0, 255, 255 |
ToneMapStrength | 0 |
URL_List | |
Version | 9.10 |
Vibrance | 0 |
VignetteAmount | 0 |
WhiteBalance (1) | As Shot |
WhiteBalance | Manual |
Whites2012 | +34 |