Felt | Verdi |
AlreadyApplied | True |
Aperture | 4.0 |
ApertureValue | 4.0 |
AutoLateralCA | 0 |
AutoWhiteVersion | 134348800 |
BitsPerSample | 8 |
Blacks2012 | +4 |
BlueHue | 0 |
BlueSaturation | 0 |
BrightnessValue | 6.0484375 |
CameraProfile | Adobe Standard |
CircleOfConfusion | 0.030 mm |
Clarity2012 | +34 |
ColorComponents | 3 |
ColorNoiseReduction | 25 |
ColorNoiseReductionDetail | 50 |
ColorNoiseReductionSmoothness | 50 |
ColorSpace | sRGB |
ColorTemperature | 5465 |
ColorTransform | YCbCr |
Contrast | Normal |
Contrast2012 | 0 |
ConvertToGrayscale | False |
CreateDate | 2016:09:17 16:44:49 |
CreatorTool | Adobe Photoshop Lightroom 6.3 (Windows) |
CropAngle | 0 |
CropBottom | 1 |
CropConstrainToWarp | 0 |
CropLeft | 0.012059 |
CropRight | 0.78865 |
CropTop | 0.060562 |
CustomRendered | Normal |
DateCreated (1) | 2016:09:17 |
DateCreated | 2016:09:17 16:44:49 |
DateTimeOriginal | 2016:09:17 16:44:49 |
DefringeGreenAmount | 0 |
DefringeGreenHueHi | 60 |
DefringeGreenHueLo | 40 |
DefringePurpleAmount | 0 |
DefringePurpleHueHi | 70 |
DefringePurpleHueLo | 30 |
Dehaze | 0 |
DigitalZoomRatio | 1 |
Exposure2012 | 0.00 |
ExposureCompensation | 0 |
ExposureMode | Manual |
ExposureProgram | Manual |
ExposureTime | 1/160 |
Flash | Off, Did not fire |
FNumber | 4.0 |
FocalLength | 47.0 mm |
FocalLength35efl | 47.0 mm (35 mm equivalent: 47.0 mm) |
FocalLengthIn35mmFormat | 47 mm |
Format | image/jpeg |
FOV | 41.9 deg |
GrainAmount | 0 |
GreenHue | 0 |
GreenSaturation | 0 |
HasCrop | True |
HasExtendedXMP | C6CFDB5F42ACB9C00B3819F6CCE76E99 |
HasSettings | True |
Highlights2012 | -100 |
HueAdjustmentAqua | 0 |
HueAdjustmentBlue | 0 |
HueAdjustmentGreen | 0 |
HueAdjustmentMagenta | 0 |
HueAdjustmentOrange | 0 |
HueAdjustmentPurple | 0 |
HueAdjustmentRed | 0 |
HueAdjustmentYellow | 0 |
HyperfocalDistance | 18.38 m |
ImageHeight | 4615 |
ImageSize | 5716x4615 |
ImageWidth | 5716 |
ISO | 320 |
Lens | FE 24-70mm F4 ZA OSS |
LensDistortInfo | 1033207064/1073741824 29387858/1073741824 4767429/1073741824 6361335/1073741824 |
LensInfo | 24-70mm f/4 |
LensManualDistortionAmount | 0 |
LensModel | FE 24-70mm F4 ZA OSS |
LensProfileChromaticAberrationScale | 100 |
LensProfileDistortionScale | 100 |
LensProfileEnable | 1 |
LensProfileFilename | SONY (Sony FE 24-70mm F4 ZA OSS) - RAW.lcp |
LensProfileName | Adobe (Sony FE 24-70mm F4 ZA OSS) |
LensProfileSetup | LensDefaults |
LensProfileVignettingScale | 100 |
LightSource | Daylight |
LightValue | 9.6 |
LuminanceAdjustmentAqua | 0 |
LuminanceAdjustmentBlue | 0 |
LuminanceAdjustmentGreen | 0 |
LuminanceAdjustmentMagenta | 0 |
LuminanceAdjustmentOrange | 0 |
LuminanceAdjustmentPurple | 0 |
LuminanceAdjustmentRed | 0 |
LuminanceAdjustmentYellow | 0 |
LuminanceSmoothing | 0 |
Make | SONY |
MaxApertureValue | 4.0 |
Megapixels | 26.4 |
MeteringMode | Center-weighted average |
Model | ILCE-7R |
ModifyDate (1) | 2016:09:18 12:50:16+02:00 |
ModifyDate | 2016:09:18 12:50:16 |
PaintCorrectionActive | true |
PaintCorrectionAmount | 1.000000 |
PaintCorrectionBrightness | 0.000000 |
PaintCorrectionClarity2012 | 0.000000 |
PaintCorrectionContrast2012 | 0.000000 |
PaintCorrectionDefringe | 0.000000 |
PaintCorrectionExposure2012 (2) | -0.075000 |
PaintCorrectionExposure2012 | 0.062500 |
PaintCorrectionHighlights2012 | 0.000000 |
PaintCorrectionHue | 240.000000 |
PaintCorrectionLocalBlacks2012 | 0.000000 |
PaintCorrectionLocalDehaze | 0.000000 |
PaintCorrectionLocalWhites2012 | 0.000000 |
PaintCorrectionLuminanceNoise | 0.000000 |
PaintCorrectionMaskCenterWeight | 0.000000 |
PaintCorrectionMaskFlow | 0.682000 |
PaintCorrectionMaskRadius (1) | 0.021089 |
PaintCorrectionMaskRadius (10) | 0.021311 |
PaintCorrectionMaskRadius (11) | 0.021303 |
PaintCorrectionMaskRadius (12) | 0.021360 |
PaintCorrectionMaskRadius (13) | 0.021327 |
PaintCorrectionMaskRadius (14) | 0.021405 |
PaintCorrectionMaskRadius (15) | 0.021139 |
PaintCorrectionMaskRadius (16) | 0.021135 |
PaintCorrectionMaskRadius (17) | 0.021572 |
PaintCorrectionMaskRadius (18) | 0.021484 |
PaintCorrectionMaskRadius (19) | 0.021473 |
PaintCorrectionMaskRadius (2) | 0.021104 |
PaintCorrectionMaskRadius (20) | 0.021462 |
PaintCorrectionMaskRadius (21) | 0.021397 |
PaintCorrectionMaskRadius (22) | 0.021582 |
PaintCorrectionMaskRadius (23) | 0.021133 |
PaintCorrectionMaskRadius (24) | 0.021124 |
PaintCorrectionMaskRadius (25) | 0.021164 |
PaintCorrectionMaskRadius (26) | 0.021209 |
PaintCorrectionMaskRadius (27) | 0.021134 |
PaintCorrectionMaskRadius (28) | 0.021268 |
PaintCorrectionMaskRadius (29) | 0.021558 |
PaintCorrectionMaskRadius (3) | 0.021080 |
PaintCorrectionMaskRadius (30) | 0.021384 |
PaintCorrectionMaskRadius (31) | 0.021471 |
PaintCorrectionMaskRadius (32) | 0.021747 |
PaintCorrectionMaskRadius (33) | 0.021594 |
PaintCorrectionMaskRadius (34) | 0.021339 |
PaintCorrectionMaskRadius (35) | 0.021334 |
PaintCorrectionMaskRadius (36) | 0.021532 |
PaintCorrectionMaskRadius (37) | 0.021349 |
PaintCorrectionMaskRadius (38) | 0.021310 |
PaintCorrectionMaskRadius (39) | 0.021126 |
PaintCorrectionMaskRadius (4) | 0.021132 |
PaintCorrectionMaskRadius (40) | 0.021420 |
PaintCorrectionMaskRadius (41) | 0.021422 |
PaintCorrectionMaskRadius (42) | 0.021342 |
PaintCorrectionMaskRadius (5) | 0.021032 |
PaintCorrectionMaskRadius (6) | 0.021628 |
PaintCorrectionMaskRadius (7) | 0.021590 |
PaintCorrectionMaskRadius (8) | 0.021531 |
PaintCorrectionMaskRadius (9) | 0.021406 |
PaintCorrectionMaskRadius | 0.021223 |
PaintCorrectionMaskValue | 0.396000 |
PaintCorrectionMaskWhat | Mask/Paint |
PaintCorrectionMoire | 0.000000 |
PaintCorrectionSaturation | 0.000000 |
PaintCorrectionShadows2012 | 0.000000 |
PaintCorrectionSharpness | 0.000000 |
PaintCorrectionTemperature | 0.000000 |
PaintCorrectionTint | 0.000000 |
PaintCorrectionWhat | Correction |
ParametricDarks | 0 |
ParametricHighlights | 0 |
ParametricHighlightSplit | 75 |
ParametricLights | 0 |
ParametricMidtoneSplit | 50 |
ParametricShadows | 0 |
ParametricShadowSplit | 25 |
PerspectiveAspect | 0 |
PerspectiveHorizontal | 0 |
PerspectiveRotate | 0.0 |
PerspectiveScale | 100 |
PerspectiveUpright | 0 |
PerspectiveVertical | 0 |
PostCropVignetteAmount | 0 |
ProcessVersion | 6.7 |
ProfileDescription | sRGB IEC61966-2.1 |
RecommendedExposureIndex | 320 |
RedHue | 0 |
RedSaturation | 0 |
Saturation (1) | 0 |
Saturation | Normal |
SaturationAdjustmentAqua | +12 |
SaturationAdjustmentBlue | 0 |
SaturationAdjustmentGreen | +17 |
SaturationAdjustmentMagenta | 0 |
SaturationAdjustmentOrange | +31 |
SaturationAdjustmentPurple | 0 |
SaturationAdjustmentRed | +11 |
SaturationAdjustmentYellow | +27 |
ScaleFactor35efl | 1.0 |
SceneCaptureType | Standard |
SceneType | Directly photographed |
SensitivityType | Recommended Exposure Index |
Shadows2012 | +61 |
ShadowTint | 0 |
SharpenDetail | 25 |
SharpenEdgeMasking | 0 |
SharpenRadius | +1.0 |
Sharpness (1) | 25 |
Sharpness | Normal |
ShutterSpeed | 1/160 |
ShutterSpeedValue | 1/160 |
Software | Adobe Photoshop Lightroom 6.3 (Windows) |
SplitToningBalance | 0 |
SplitToningHighlightHue | 0 |
SplitToningHighlightSaturation | 0 |
SplitToningShadowHue | 0 |
SplitToningShadowSaturation | 0 |
Tint | +3 |
ToneCurve | 0, 0, 255, 255 |
ToneCurveBlue | 0, 0, 255, 255 |
ToneCurveGreen | 0, 0, 255, 255 |
ToneCurveName | Linear |
ToneCurveName2012 | Linear |
ToneCurvePV2012 | 0, 0, 255, 255 |
ToneCurvePV2012Blue | 0, 0, 255, 255 |
ToneCurvePV2012Green | 0, 0, 255, 255 |
ToneCurvePV2012Red | 0, 0, 255, 255 |
ToneCurveRed | 0, 0, 255, 255 |
ToneMapStrength | 0 |
Version | 9.3 |
Vibrance | 0 |
VignetteAmount | 0 |
WhiteBalance (1) | Custom |
WhiteBalance | Manual |
Whites2012 | +23 |