Felt | Verdi |
AlreadyApplied | True |
Aperture | 10.0 |
ApertureValue | 10.0 |
ApproximateFocusDistance | 4294967295 |
Artist | Sindre Nedrevag |
AutoLateralCA | 1 |
AutoWhiteVersion | 134348800 |
BitsPerSample | 8 |
Blacks2012 | 0 |
BlueHue | 0 |
BlueSaturation | 0 |
By-line | Sindre Nedrevag |
CameraProfile | Adobe Standard |
CFAPattern | [Red,Green][Green,Blue] |
CircleOfConfusion | 0.030 mm |
Clarity2012 | 0 |
ColorComponents | 3 |
ColorNoiseReduction | 50 |
ColorNoiseReductionDetail | 55 |
ColorNoiseReductionSmoothness | 50 |
ColorSpace | sRGB |
ColorTemperature | 6250 |
ColorTransform | YCbCr |
Contrast | Normal |
Contrast2012 | +5 |
ConvertToGrayscale | False |
CreateDate (1) | 2017:08:04 18:00:30.80 |
CreateDate | 2017:08:04 18:00:30 |
Creator | Sindre Nedrevag |
CreatorTool | Adobe Photoshop Lightroom 6.10 (Windows) |
CropAngle | 0 |
CropBottom | 1 |
CropConstrainToWarp | 0 |
CropLeft | 0.019908 |
CropRight | 0.975497 |
CropTop | 0.098964 |
CustomRendered | Normal |
DateCreated (1) | 2017:08:04 |
DateCreated | 2017:08:04 18:00:30.80 |
DateTimeOriginal | 2017:08:04 18:00:30 |
DefringeGreenAmount | 0 |
DefringeGreenHueHi | 60 |
DefringeGreenHueLo | 40 |
DefringePurpleAmount | 0 |
DefringePurpleHueHi | 70 |
DefringePurpleHueLo | 30 |
Dehaze | 0 |
DigitalZoomRatio | 1 |
DistortionCorrectionAlreadyApplied | True |
DOF | inf (2404.62 m - inf) |
Exposure2012 | +1.10 |
ExposureCompensation | 0 |
ExposureMode | Manual |
ExposureProgram | Manual |
ExposureTime | 1/1000 |
Flash | No Flash |
FNumber | 10.0 |
FocalLength | 850.0 mm |
FocalLength35efl | 850.0 mm (35 mm equivalent: 850.0 mm) |
FocalLengthIn35mmFormat | 850 mm |
Format | image/jpeg |
FOV | 2.4 deg |
GainControl | Low gain up |
GrainAmount | 0 |
GreenHue | 0 |
GreenSaturation | 0 |
HasCrop | True |
HasSettings | True |
Highlights2012 | -25 |
HueAdjustmentAqua | 0 |
HueAdjustmentBlue | 0 |
HueAdjustmentGreen | -5 |
HueAdjustmentMagenta | 0 |
HueAdjustmentOrange | 0 |
HueAdjustmentPurple | 0 |
HueAdjustmentRed | 0 |
HueAdjustmentYellow | 0 |
HyperfocalDistance | 2404.63 m |
ImageHeight | 2955 |
ImageNumber | 38616 |
ImageSize | 4709x2955 |
ImageWidth | 4709 |
ISO | 800 |
LateralChromaticAberrationCorrectionAlreadyApplied | True |
Lens | 200.0-500.0 mm f/5.6 |
LensID (1) | 174 |
LensID | AF-S Nikkor 200-500mm f/5.6E ED VR |
LensInfo | 200-500mm f/5.6 |
LensManualDistortionAmount | 0 |
LensModel | 200.0-500.0 mm f/5.6 |
LensProfileChromaticAberrationScale | 100 |
LensProfileDistortionScale | 100 |
LensProfileEnable | 1 |
LensProfileFilename | NIKON D3 (Nikon AF-S NIKKOR 200-500mm f5.6E ED VR) - RAW.lcp |
LensProfileName | Adobe (Nikon AF-S NIKKOR 200-500mm f/5.6E ED VR) |
LensProfileSetup | LensDefaults |
LensProfileVignettingScale | 100 |
LightSource | Unknown |
LightValue | 13.6 |
LuminanceAdjustmentAqua | 0 |
LuminanceAdjustmentBlue | -58 |
LuminanceAdjustmentGreen | +90 |
LuminanceAdjustmentMagenta | 0 |
LuminanceAdjustmentOrange | 0 |
LuminanceAdjustmentPurple | 0 |
LuminanceAdjustmentRed | 0 |
LuminanceAdjustmentYellow | 0 |
LuminanceNoiseReductionContrast | 25 |
LuminanceNoiseReductionDetail | 70 |
LuminanceSmoothing | 5 |
Make | NIKON CORPORATION |
MaxApertureValue | 9.5 |
Megapixels | 13.9 |
MeteringMode | Spot |
Model | NIKON D4 |
ModifyDate (1) | 2017:08:06 12:11:30+02:00 |
ModifyDate | 2017:08:06 12:11:30 |
PaintCorrectionActive | true |
PaintCorrectionAmount | 1.000000 |
PaintCorrectionBrightness | 0.000000 |
PaintCorrectionClarity2012 (3) | 0.100000 |
PaintCorrectionClarity2012 | 0.000000 |
PaintCorrectionContrast2012 (1) | 0.300000 |
PaintCorrectionContrast2012 (2) | 0.200000 |
PaintCorrectionContrast2012 (4) | 0.050000 |
PaintCorrectionContrast2012 | 0.000000 |
PaintCorrectionDefringe | 0.000000 |
PaintCorrectionExposure2012 (1) | -0.125000 |
PaintCorrectionExposure2012 (2) | -0.047500 |
PaintCorrectionExposure2012 (3) | 0.075000 |
PaintCorrectionExposure2012 (4) | 0.000000 |
PaintCorrectionExposure2012 | -0.042500 |
PaintCorrectionHighlights2012 (1) | -0.595240 |
PaintCorrectionHighlights2012 (2) | -0.666670 |
PaintCorrectionHighlights2012 (3) | 0.095240 |
PaintCorrectionHighlights2012 (4) | -0.400000 |
PaintCorrectionHighlights2012 | 0.000000 |
PaintCorrectionHue | 0.000000 |
PaintCorrectionLocalBlacks2012 (1) | -0.150000 |
PaintCorrectionLocalBlacks2012 (2) | 0.000000 |
PaintCorrectionLocalBlacks2012 | -0.050000 |
PaintCorrectionLocalDehaze (1) | 0.047620 |
PaintCorrectionLocalDehaze | 0.000000 |
PaintCorrectionLocalWhites2012 (1) | 0.000000 |
PaintCorrectionLocalWhites2012 (3) | -0.200000 |
PaintCorrectionLocalWhites2012 | -0.261900 |
PaintCorrectionLuminanceNoise (1) | 0.050000 |
PaintCorrectionLuminanceNoise (3) | 0.200000 |
PaintCorrectionLuminanceNoise (4) | 0.000000 |
PaintCorrectionLuminanceNoise | 0.250000 |
PaintCorrectionMaskCenterWeight (10) | 0.133270 |
PaintCorrectionMaskCenterWeight (53) | 0.204522 |
PaintCorrectionMaskCenterWeight | 1.000000 |
PaintCorrectionMaskFlow | 1.000000 |
PaintCorrectionMaskRadius (1) | 0.009412 |
PaintCorrectionMaskRadius (10) | 0.015023 |
PaintCorrectionMaskRadius (11) | 0.019388 |
PaintCorrectionMaskRadius (13) | 0.005558 |
PaintCorrectionMaskRadius (14) | 0.008424 |
PaintCorrectionMaskRadius (15) | 0.004636 |
PaintCorrectionMaskRadius (16) | 0.007452 |
PaintCorrectionMaskRadius (19) | 0.006497 |
PaintCorrectionMaskRadius (2) | 0.010417 |
PaintCorrectionMaskRadius (20) | 0.035977 |
PaintCorrectionMaskRadius (22) | 0.002892 |
PaintCorrectionMaskRadius (24) | 0.025430 |
PaintCorrectionMaskRadius (26) | 0.023272 |
PaintCorrectionMaskRadius (28) | 0.019148 |
PaintCorrectionMaskRadius (3) | 0.014604 |
PaintCorrectionMaskRadius (30) | 0.017137 |
PaintCorrectionMaskRadius (33) | 0.013217 |
PaintCorrectionMaskRadius (34) | 0.027530 |
PaintCorrectionMaskRadius (40) | 0.015160 |
PaintCorrectionMaskRadius (43) | 0.009432 |
PaintCorrectionMaskRadius (45) | 0.011308 |
PaintCorrectionMaskRadius (48) | 0.012695 |
PaintCorrectionMaskRadius (49) | 0.008571 |
PaintCorrectionMaskRadius (5) | 0.001871 |
PaintCorrectionMaskRadius (50) | 0.006610 |
PaintCorrectionMaskRadius (54) | 0.004717 |
PaintCorrectionMaskRadius (55) | 0.002004 |
PaintCorrectionMaskRadius (56) | 0.001134 |
PaintCorrectionMaskRadius (57) | 0.003796 |
PaintCorrectionMaskRadius (7) | 0.003052 |
PaintCorrectionMaskRadius (9) | 0.000733 |
PaintCorrectionMaskRadius | 0.003105 |
PaintCorrectionMaskValue (35) | 1.000000 |
PaintCorrectionMaskValue | 0.000000 |
PaintCorrectionMaskWhat | Mask/Paint |
PaintCorrectionMoire | 0.000000 |
PaintCorrectionSaturation (5) | 0.050000 |
PaintCorrectionSaturation | 0.000000 |
PaintCorrectionShadows2012 (1) | -0.142860 |
PaintCorrectionShadows2012 (3) | 0.600000 |
PaintCorrectionShadows2012 | 0.000000 |
PaintCorrectionSharpness (1) | 0.450000 |
PaintCorrectionSharpness (2) | 0.333330 |
PaintCorrectionSharpness (3) | 0.100000 |
PaintCorrectionSharpness | 0.000000 |
PaintCorrectionTemperature (2) | 0.023810 |
PaintCorrectionTemperature (3) | 0.050000 |
PaintCorrectionTemperature (4) | 0.010000 |
PaintCorrectionTemperature | 0.000000 |
PaintCorrectionTint | 0.000000 |
PaintCorrectionWhat | Correction |
ParametricDarks | 0 |
ParametricHighlights | -6 |
ParametricHighlightSplit | 75 |
ParametricLights | +8 |
ParametricMidtoneSplit | 50 |
ParametricShadows | 0 |
ParametricShadowSplit | 25 |
PerspectiveAspect | 0 |
PerspectiveHorizontal | 0 |
PerspectiveRotate | 0.0 |
PerspectiveScale | 115 |
PerspectiveUpright | 0 |
PerspectiveVertical | 0 |
PerspectiveX | 0.00 |
PerspectiveY | 0.00 |
PostCropVignetteAmount | 0 |
ProcessVersion | 6.7 |
ProfileDescription | sRGB IEC61966-2.1 |
RedHue | 0 |
RedSaturation | 0 |
Saturation (1) | 0 |
Saturation | Normal |
SaturationAdjustmentAqua | -5 |
SaturationAdjustmentBlue | -60 |
SaturationAdjustmentGreen | 0 |
SaturationAdjustmentMagenta | 0 |
SaturationAdjustmentOrange | +10 |
SaturationAdjustmentPurple | 0 |
SaturationAdjustmentRed | 0 |
SaturationAdjustmentYellow | +5 |
ScaleFactor35efl | 1.0 |
SceneCaptureType | Standard |
SceneType | Directly photographed |
SensingMethod | One-chip color area |
SensitivityType | Recommended Exposure Index |
SerialNumber | 2055090 |
Shadows2012 | -40 |
ShadowTint | 0 |
SharpenDetail | 35 |
SharpenEdgeMasking | 58 |
SharpenRadius | +1.0 |
Sharpness (1) | 30 |
Sharpness | Normal |
ShutterSpeed | 1/1000 |
ShutterSpeedValue | 1/1000 |
Software | Adobe Photoshop Lightroom 6.10 (Windows) |
SplitToningBalance | 0 |
SplitToningHighlightHue | 0 |
SplitToningHighlightSaturation | 0 |
SplitToningShadowHue | 0 |
SplitToningShadowSaturation | 0 |
SubjectDistanceRange | Unknown |
Tint | +9 |
ToneCurve | 0, 0, 255, 255 |
ToneCurveBlue | 0, 0, 255, 255 |
ToneCurveGreen | 0, 0, 255, 255 |
ToneCurveName | Linear |
ToneCurveName2012 | Linear |
ToneCurvePV2012 | 0, 0, 255, 255 |
ToneCurvePV2012Blue | 0, 0, 255, 255 |
ToneCurvePV2012Green | 0, 0, 255, 255 |
ToneCurvePV2012Red | 0, 0, 255, 255 |
ToneCurveRed | 0, 0, 255, 255 |
ToneMapStrength | 0 |
Version | 9.10 |
Vibrance | +15 |
VignetteAmount | +45 |
VignetteCorrectionAlreadyApplied | True |
VignetteMidpoint | 32 |
WhiteBalance (1) | Custom |
WhiteBalance | Auto |
Whites2012 | 0 |