Felt | Verdi |
2017-05-09T20:25:45+02:00 Filen D:\PSAutoRecover\Torild\__74A02018E9C7CECD9B8A9EC37B20DE573778D74.psb er lagret
2017-05-09T20:35:21+02:00 Filen D:\PSAutoRecover\Torild\__74A02018E9C7CECD9B8A9EC37B20DE573778D74.psb er lagret
2017-05-09T20:41:44+02:00 Filen E:\2017\Kristina Borgen\psd\_74A0201.psd er lagret
2017-05-09T20:44:58+02:00 Filen D:\PSAutoRecover\Torild\__74A020180ABC44A153C512C392C54EA1998B59A.psb er lagret
2017-05-09T20:54:34+02:00 Filen D:\PSAutoRecover\Torild\__74A020180ABC44A153C512C392C54EA1998B59A.psb er lagret
2017-05-09T21:04:10+02:00 Filen D:\PSAutoRecover\Torild\__74A020180ABC44A153C512C392C54EA1998B59A.psb er lagret
2017-05-09T21:09:03+02:00 Filen E:\2017\Kristina Borgen\psd\_74A0201.psd er lagret
2017-05-09T21:13:47+02:00 Filen D:\PSAutoRecover\Torild\__74A020180ABC44A153C512C392C54EA1998B59A.psb er lagret
2017-05-09T21:19:19+02:00 Filen E:\2017\Kristina Borgen\psd\_74A0201.psd er lagret
2017-05-09T21:23:26+02:00 Filen D:\PSAutoRecover\Torild\__74A020180ABC44A153C512C392C54EA1998B59A.psb er lagret
2017-05-09T21:25:50+02:00 Filen E:\2017\Kristina Borgen\psd\_74A0201.psd er lagret
2017-05-09T21:27:18+02:00 Filen E:\2017\Kristina Borgen\psd\_74A0201.psd er lagret
2017-05-09T21:30:09+02:00 Filen E:\2017\Kristina Borgen\psd\_74A0201.psd er lagret
2017-05-09T21:33:02+02:00 Filen D:\PSAutoRecover\Torild\__74A020180ABC44A153C512C392C54EA1998B59A.psb er lagret
2017-05-09T21:35:38+02:00 Filen E:\2017\Kristina Borgen\psd\_74A0201.psd er lagret
2017-06-04T19:09:04+02:00 Fil _74A0201.psd åpnet
2017-06-04T19:11:56+02:00 Filen E:\2017\Kristina Borgen\stor web uten logo\_74A0201.png er lagret
2017-06-04T19:12:34+02:00 Filen E:\2017\Kristina Borgen\stor web uten logo\_74A0201.jpg er lagret
AlreadyApplied | True |
Aperture | 2.8 |
ApertureValue | 2.8 |
ApproximateFocusDistance | 7.06 |
Artist | Torild Vangen |
AutoLateralCA | 0 |
AutoWhiteVersion | 134348800 |
BitsPerSample | 8 |
Blacks2012 | 0 |
BlueHue | 0 |
BlueSaturation | 0 |
By-line | Torild Vangen |
CameraProfile | Adobe Standard |
CircleOfConfusion | 0.013 mm |
Clarity2012 | +1 |
ColorComponents | 3 |
ColorMode | RGB |
ColorNoiseReduction | 25 |
ColorNoiseReductionDetail | 50 |
ColorNoiseReductionSmoothness | 50 |
ColorSpace | sRGB |
ColorTemperature | 6450 |
ColorTransform | YCbCr |
Contrast2012 | 0 |
ConvertToGrayscale | False |
CreateDate | 2017:05:02 20:28:16 |
Creator | Torild Vangen |
CreatorTool | Adobe Photoshop CC 2017 (Windows) |
CustomRendered | Normal |
DateCreated (1) | 2017:05:02 |
DateCreated | 2017:05:02 20:28:16 |
DateTimeOriginal | 2017:05:02 20:28:16 |
DefringeGreenAmount | 0 |
DefringeGreenHueHi | 60 |
DefringeGreenHueLo | 40 |
DefringePurpleAmount | 0 |
DefringePurpleHueHi | 70 |
DefringePurpleHueLo | 30 |
Dehaze | 0 |
DOF | 0.21 m (6.96 - 7.16 m) |
ExifImageHeight | 1628 |
ExifImageWidth | 2440 |
Exposure2012 | 0.00 |
ExposureCompensation | 0 |
ExposureMode | Manual |
ExposureProgram | Manual |
ExposureTime | 1/125 |
Firmware | 1.3.3 |
Flash | Off, Did not fire |
FlashCompensation | 0 |
FNumber | 2.8 |
FocalLength | 130.0 mm |
FocalLength35efl | 130.0 mm (35 mm equivalent: 306.8 mm) |
Format | image/jpeg |
FOV | 6.7 deg |
GrainAmount | 0 |
GreenHue | 0 |
GreenSaturation | 0 |
HasCrop | False |
HasSettings | True |
Highlights2012 | -100 |
HueAdjustmentAqua | 0 |
HueAdjustmentBlue | 0 |
HueAdjustmentGreen | 0 |
HueAdjustmentMagenta | 0 |
HueAdjustmentOrange | 0 |
HueAdjustmentPurple | 0 |
HueAdjustmentRed | 0 |
HueAdjustmentYellow | 0 |
HyperfocalDistance | 474.09 m |
ICCProfileName | sRGB IEC61966-2.1 |
ImageHeight | 1628 |
ImageNumber | 0 |
ImageSize | 2440x1628 |
ImageWidth | 2440 |
ISO | 160 |
Label | Gjennomgang |
Lens | EF70-200mm f/2.8L IS II USM |
LensID (1) | 251 |
LensID | Canon EF 70-200mm f/2.8L IS II USM |
LensInfo | 70-200mm f/? |
LensManualDistortionAmount | 0 |
LensModel | EF70-200mm f/2.8L IS II USM |
LensProfileEnable | 0 |
LensProfileSetup | LensDefaults |
LensSerialNumber | 000081c32e |
LightValue | 9.3 |
LuminanceAdjustmentAqua | 0 |
LuminanceAdjustmentBlue | 0 |
LuminanceAdjustmentGreen | 0 |
LuminanceAdjustmentMagenta | 0 |
LuminanceAdjustmentOrange | 0 |
LuminanceAdjustmentPurple | 0 |
LuminanceAdjustmentRed | 0 |
LuminanceAdjustmentYellow | 0 |
LuminanceSmoothing | 0 |
Make | Canon |
MaxApertureValue | 2.8 |
Megapixels | 4.0 |
MeteringMode | Center-weighted average |
Model | Canon EOS 5D Mark III |
ModifyDate (1) | 2017:06:04 19:12:34+02:00 |
ModifyDate | 2017:06:04 19:12:34 |
Orientation | Horizontal (normal) |
ParametricDarks | 0 |
ParametricHighlights | 0 |
ParametricHighlightSplit | 75 |
ParametricLights | 0 |
ParametricMidtoneSplit | 50 |
ParametricShadows | 0 |
ParametricShadowSplit | 25 |
PerspectiveAspect | 0 |
PerspectiveHorizontal | 0 |
PerspectiveRotate | 0.0 |
PerspectiveScale | 100 |
PerspectiveUpright | 0 |
PerspectiveVertical | 0 |
PerspectiveX | 0.00 |
PerspectiveY | 0.00 |
PostCropVignetteAmount | 0 |
ProcessVersion | 6.7 |
ProfileDescription | sRGB IEC61966-2.1 |
Rating | 0 |
RawFileName | _74A0201.CR2 |
RecommendedExposureIndex | 160 |
RedHue | 0 |
RedSaturation | 0 |
Saturation | 0 |
SaturationAdjustmentAqua | 0 |
SaturationAdjustmentBlue | 0 |
SaturationAdjustmentGreen | 0 |
SaturationAdjustmentMagenta | 0 |
SaturationAdjustmentOrange | 0 |
SaturationAdjustmentPurple | 0 |
SaturationAdjustmentRed | 0 |
SaturationAdjustmentYellow | 0 |
ScaleFactor35efl | 2.4 |
SceneCaptureType | Standard |
SensitivityType | Recommended Exposure Index |
SerialNumber | 033024002594 |
Shadows2012 | +94 |
ShadowTint | 0 |
SharpenDetail | 25 |
SharpenEdgeMasking | 0 |
SharpenRadius | +1.0 |
Sharpness | 25 |
ShutterSpeed | 1/125 |
ShutterSpeedValue | 1/125 |
Software | Adobe Photoshop CC 2017 (Windows) |
SplitToningBalance | 0 |
SplitToningHighlightHue | 0 |
SplitToningHighlightSaturation | 0 |
SplitToningShadowHue | 0 |
SplitToningShadowSaturation | 0 |
Tint | +10 |
ToneCurve | 0, 0, 32, 22, 64, 56, 128, 128, 192, 196, 255, 255 |
ToneCurveBlue | 0, 0, 255, 255 |
ToneCurveGreen | 0, 0, 255, 255 |
ToneCurveName | Medium Contrast |
ToneCurveName2012 | Linear |
ToneCurvePV2012 | 0, 0, 255, 255 |
ToneCurvePV2012Blue | 0, 0, 255, 255 |
ToneCurvePV2012Green | 0, 0, 255, 255 |
ToneCurvePV2012Red | 0, 0, 255, 255 |
ToneCurveRed | 0, 0, 255, 255 |
ToneMapStrength | 0 |
URL_List | |
Version | 9.10 |
Vibrance | 0 |
VignetteAmount | 0 |
WhiteBalance (1) | Custom |
WhiteBalance | Auto |
Whites2012 | 0 |