Felt | Verdi |
AlreadyApplied | True |
Aperture | 7.1 |
ApertureValue | 7.1 |
AutoLateralCA | 0 |
AutoWhiteVersion | 134348800 |
BitsPerSample | 8 |
Blacks2012 | +1 |
BlueHue | 0 |
BlueSaturation | 0 |
BrightnessValue | 10.759375 |
CameraProfile | Embedded |
CircleOfConfusion | 0.011 mm |
Clarity2012 | +66 |
ColorComponents | 3 |
ColorNoiseReduction | 0 |
ColorSpace | Uncalibrated |
ColorTransform | YCbCr |
Contrast | Normal |
Contrast2012 | +24 |
ConvertToGrayscale | True |
CreateDate | 2017:02:22 14:30:11 |
CreatorTool | Adobe Photoshop Lightroom 6.7 (Macintosh) |
CropAngle | 1.94615 |
CropBottom | 1 |
CropConstrainToWarp | 0 |
CropLeft | 0.035026 |
CropRight | 0.964974 |
CropTop | 0 |
CustomRendered | Normal |
DateCreated (1) | 2017:02:22 |
DateCreated | 2017:02:22 14:30:11 |
DateTimeOriginal | 2017:02:22 14:30:11 |
Dehaze | 0 |
DigitalZoomRatio | 1 |
Exposure2012 | +1.10 |
ExposureCompensation | 0 |
ExposureMode | Manual |
ExposureProgram | Manual |
ExposureTime | 1/1250 |
Flash | Off, Did not fire |
FNumber | 7.1 |
FocalLength | 37.1 mm |
FocalLength35efl | 37.1 mm (35 mm equivalent: 100.0 mm) |
FocalLengthIn35mmFormat | 100 mm |
Format | image/jpeg |
FOV | 20.4 deg |
GrainAmount | 0 |
GrayMixerAqua | -17 |
GrayMixerBlue | +13 |
GrayMixerGreen | -28 |
GrayMixerMagenta | +3 |
GrayMixerOrange | -21 |
GrayMixerPurple | +17 |
GrayMixerRed | -12 |
GrayMixerYellow | -25 |
GreenHue | 0 |
GreenSaturation | 0 |
HasCrop | True |
HasSettings | True |
Highlights2012 | -67 |
HyperfocalDistance | 17.39 m |
ImageHeight | 1737 |
ImageSize | 2605x1737 |
ImageWidth | 2605 |
IncrementalTemperature | +14 |
IncrementalTint | +30 |
ISO | 200 |
Lens | 10.4-37.1 mm f/1.8-4.9 |
LensInfo | 10.4-37.1mm f/1.8-4.9 |
LensManualDistortionAmount | 0 |
LensModel | 10.4-37.1 mm f/1.8-4.9 |
LensProfileEnable | 0 |
LensProfileSetup | LensDefaults |
LightSource | Unknown |
LightValue | 14.9 |
LuminanceSmoothing | 0 |
Make | SONY |
MaxApertureValue | 4.9 |
Megapixels | 4.5 |
MeteringMode | Multi-segment |
Model | DSC-RX100 |
ModifyDate (1) | 2017:03:05 09:31:12+01:00 |
ModifyDate | 2017:03:05 09:31:12 |
ParametricDarks | 0 |
ParametricHighlights | 0 |
ParametricHighlightSplit | 75 |
ParametricLights | 0 |
ParametricMidtoneSplit | 50 |
ParametricShadows | 0 |
ParametricShadowSplit | 25 |
PerspectiveAspect | 0 |
PerspectiveHorizontal | 0 |
PerspectiveRotate | 0.0 |
PerspectiveScale | 100 |
PerspectiveUpright | 0 |
PerspectiveVertical | 0 |
PerspectiveX | 0.00 |
PerspectiveY | 0.00 |
PostCropVignetteAmount | -20 |
PostCropVignetteFeather | 50 |
PostCropVignetteHighlightContrast | 32 |
PostCropVignetteMidpoint | 50 |
PostCropVignetteRoundness | 0 |
PostCropVignetteStyle | 1 |
ProcessVersion | 6.7 |
ProfileDescription | ProPhoto RGB |
RecommendedExposureIndex | 200 |
RedHue | 0 |
RedSaturation | 0 |
Saturation | High |
ScaleFactor35efl | 2.7 |
SceneCaptureType | Standard |
SceneType | Directly photographed |
SensitivityType | Recommended Exposure Index |
Shadows2012 | +66 |
ShadowTint | 0 |
SharpenDetail | 25 |
SharpenEdgeMasking | 0 |
SharpenRadius | +1.0 |
Sharpness (1) | 0 |
Sharpness | Hard |
ShutterSpeed | 1/1250 |
ShutterSpeedValue | 1/1250 |
Software | Adobe Photoshop Lightroom 6.7 (Macintosh) |
SplitToningBalance | 0 |
SplitToningHighlightHue | 0 |
SplitToningHighlightSaturation | 0 |
SplitToningShadowHue | 0 |
SplitToningShadowSaturation | 0 |
ToneCurve | 0, 0, 255, 255 |
ToneCurveBlue | 0, 0, 255, 255 |
ToneCurveGreen | 0, 0, 255, 255 |
ToneCurveName | Linear |
ToneCurveName2012 | Linear |
ToneCurvePV2012 | 0, 0, 255, 255 |
ToneCurvePV2012Blue | 0, 0, 255, 255 |
ToneCurvePV2012Green | 0, 0, 255, 255 |
ToneCurvePV2012Red | 0, 0, 255, 255 |
ToneCurveRed | 0, 0, 255, 255 |
ToneMapStrength | 0 |
Version | 9.7 |
VignetteAmount | 0 |
WhiteBalance (1) | Custom |
WhiteBalance | Auto |
Whites2012 | -45 |