Felt | Verdi |
2016-12-11T08:43:56+01:00 Filen 151016_0279_tonemapped.tif er lagret
2016-12-11T08:44:45+01:00 Filen 151016_0279_tonemapped.jpg er lagret
AlreadyApplied | True |
Aperture | 8.0 |
ApertureValue | 8.0 |
ApproximateFocusDistance | 4294967295 |
AutoLateralCA | 0 |
AutoWhiteVersion | 134348800 |
BitsPerSample | 8 |
BlackClip | 0.000000 |
Blacks2012 | 0 |
BlueHue | 0 |
BlueSaturation | 0 |
CameraProfile | Embedded |
Clarity2012 | 0 |
ColorComponents | 3 |
ColorMode | RGB |
ColorNoiseReduction | 0 |
ColorSaturation | 38.8 |
ColorSpace | Uncalibrated |
ColorTemperature | -3.7 |
ColorTransform | YCbCr |
Contrast2012 | +25 |
ConvertToGrayscale | False |
Copyright | Hasselblad H4D |
CopyrightNotice | Hasselblad H4D |
CreateDate | 2016:10:15 13:06:47 |
CreatorTool | Photomatix Pro 5.1.3 |
DateCreated (1) | 2016:10:15 |
DateCreated | 2016:10:15 13:06:47 |
DateTimeOriginal | 2016:10:15 13:06:47 |
DefringeGreenAmount | 0 |
DefringeGreenHueHi | 60 |
DefringeGreenHueLo | 40 |
DefringePurpleAmount | 0 |
DefringePurpleHueHi | 70 |
DefringePurpleHueLo | 30 |
Dehaze | 0 |
ExifImageHeight | 987 |
ExifImageWidth | 1708 |
Exposure2012 | +0.90 |
ExposureProgram | Aperture-priority AE |
ExposureTime | 1/160 |
FNumber | 8.0 |
FocalLength | 35.0 mm |
FocalLength35efl | 35.0 mm |
Format | image/jpeg |
Gamma | 1.43 |
GrainAmount | 0 |
GreenHue | 0 |
GreenSaturation | 0 |
HasCrop | False |
HasSettings | True |
Highlights2012 | 0 |
HighlightsSmoothing | 0.0 |
HueAdjustmentAqua | 0 |
HueAdjustmentBlue | 0 |
HueAdjustmentGreen | 0 |
HueAdjustmentMagenta | 0 |
HueAdjustmentOrange | 0 |
HueAdjustmentPurple | 0 |
HueAdjustmentRed | 0 |
HueAdjustmentYellow | +58 |
ICCProfileName | Adobe RGB (1998) |
ImageHeight | 987 |
ImageSize | 1708x987 |
ImageWidth | 1708 |
IncrementalTemperature | -2 |
IncrementalTint | +10 |
ISO | 100 |
IsPano360 | No |
Lens | HC 35 |
LensManualDistortionAmount | 0 |
LensModel | HC 35 |
LensProfileEnable | 0 |
LensProfileSetup | LensDefaults |
LightValue | 13.3 |
LuminanceAdjustmentAqua | 0 |
LuminanceAdjustmentBlue | 0 |
LuminanceAdjustmentGreen | 0 |
LuminanceAdjustmentMagenta | 0 |
LuminanceAdjustmentOrange | 0 |
LuminanceAdjustmentPurple | 0 |
LuminanceAdjustmentRed | 0 |
LuminanceAdjustmentYellow | 0 |
LuminanceSmoothing | 0 |
Luminosity | -1.3 |
Make | Hasselblad |
Megapixels | 1.7 |
MeteringMode | Center-weighted average |
Method | Details Enhancer |
Microcontrast | -2.0 |
Microsmoothing | 0.0 |
Model | Hasselblad H4D |
ModifyDate (1) | 2016:12:11 08:44:45+01:00 |
ModifyDate | 2016:12:11 08:44:45 |
Orientation | Horizontal (normal) |
ParametricDarks | 0 |
ParametricHighlights | 0 |
ParametricHighlightSplit | 75 |
ParametricLights | 0 |
ParametricMidtoneSplit | 50 |
ParametricShadows | 0 |
ParametricShadowSplit | 25 |
PerspectiveAspect | 0 |
PerspectiveHorizontal | 0 |
PerspectiveRotate | 0.0 |
PerspectiveScale | 100 |
PerspectiveUpright | 0 |
PerspectiveVertical | 0 |
PerspectiveX | 0.00 |
PerspectiveY | 0.00 |
PhotographicSensitivity | 100 |
PostCropVignetteAmount | 0 |
ProcessVersion | 6.7 |
ProfileDescription | Adobe RGB (1998) |
Rating | 0 |
RawFileName | 151016_0279_tonemapped.tif |
RedHue | 0 |
RedSaturation | 0 |
Rights | Hasselblad H4D |
Saturation | +42 |
SaturationAdjustmentAqua | 0 |
SaturationAdjustmentBlue | 0 |
SaturationAdjustmentGreen | 0 |
SaturationAdjustmentMagenta | 0 |
SaturationAdjustmentOrange | +53 |
SaturationAdjustmentPurple | 0 |
SaturationAdjustmentRed | +80 |
SaturationAdjustmentYellow | +43 |
SaturationHighlights | 6.6 |
SaturationShadows | 3.2 |
Shadows2012 | +17 |
ShadowsClipping | 0.0 |
ShadowsSmoothing | 0.0 |
ShadowTint | 0 |
SharpenDetail | 25 |
SharpenEdgeMasking | 0 |
SharpenRadius | +1.0 |
Sharpness | 0 |
ShutterSpeed | 1/160 |
ShutterSpeedValue | 1/160 |
Smoothing | -1.5 |
SmoothingMode | Slider |
Software | Adobe Photoshop CC 2017 (Macintosh) |
SplitToningBalance | 0 |
SplitToningHighlightHue | 0 |
SplitToningHighlightSaturation | 0 |
SplitToningShadowHue | 0 |
SplitToningShadowSaturation | 0 |
Strength | 15.4 |
SubjectDistance | 4294967295 m |
ToneCurve | 0, 0, 255, 255 |
ToneCurveBlue | 0, 0, 255, 255 |
ToneCurveGreen | 0, 0, 255, 255 |
ToneCurveName | Linear |
ToneCurveName2012 | Linear |
ToneCurvePV2012 | 0, 0, 255, 255 |
ToneCurvePV2012Blue | 0, 0, 255, 255 |
ToneCurvePV2012Green | 0, 0, 255, 255 |
ToneCurvePV2012Red | 0, 0, 255, 255 |
ToneCurveRed | 0, 0, 255, 255 |
ToneMapStrength | 0 |
URL_List | |
Version (1) | 5.1 |
Version | 9.7 |
Vibrance | -8 |
VignetteAmount | 0 |
WhiteBalance | Custom |
WhiteClip | 0.071272 |
Whites2012 | 0 |