Felt | Verdi |
AlreadyApplied | True |
Aperture | 10.0 |
ApertureValue | 10.0 |
ApproximateFocusDistance | 1.63 |
Artist | Geir Manshaus |
AutoLateralCA | 0 |
AutoWhiteVersion | 134348800 |
BitsPerSample | 8 |
Blacks2012 | -30 |
BlueHue | 0 |
BlueSaturation | 0 |
By-line | Geir Manshaus |
CameraProfile | Adobe Standard |
CircleOfConfusion | 0.005 mm |
Clarity2012 | 0 |
ColorComponents | 3 |
ColorNoiseReduction | 25 |
ColorNoiseReductionDetail | 50 |
ColorNoiseReductionSmoothness | 50 |
ColorTemperature | 5850 |
ColorTransform | YCbCr |
Contrast2012 | -42 |
ConvertToGrayscale | True |
Copyright | Geir Manshaus |
CopyrightFlag | True |
CopyrightNotice | Geir Manshaus |
CreateDate (1) | 2015:11:08 14:54:29.00 |
CreateDate | 2015:11:08 14:54:29 |
Creator | Geir Manshaus |
CreatorAddress | Sons gate 25 |
CreatorCountry | Norge-Norway- |
CreatorPostalCode | 0654 |
CreatorRegion | Oslo |
CreatorTool | Adobe Photoshop Lightroom 5.7 (Windows) |
CreatorWorkEmail | geirhandyman@hotmail.com |
CreatorWorkTelephone | 0047 97 68 29 88 |
CropAngle | -4.13086 |
CropBottom | 0.907436 |
CropConstrainToWarp | 0 |
CropLeft | 0.026902 |
CropRight | 0.925028 |
CropTop | 0.092564 |
CustomRendered | Normal |
DateCreated (1) | 2015:11:08 |
DateCreated | 2015:11:08 14:54:29.00 |
DateTimeOriginal | 2015:11:08 14:54:29 |
Director | Geir Manshaus |
DOF | 1.77 m (1.13 - 2.90 m) |
Exposure2012 | -0.05 |
ExposureCompensation | 0 |
ExposureMode | Manual |
ExposureProgram | Manual |
ExposureTime | 1/80 |
Firmware | 1.3.3 |
Flash | Off, Did not fire |
FlashCompensation | 0 |
FNumber | 10.0 |
FocalLength | 14.0 mm |
FocalLength35efl | 14.0 mm (35 mm equivalent: 79.1 mm) |
Format | image/jpeg |
FOV | 25.6 deg |
GradientBasedCorrActive | true |
GradientBasedCorrAmount | 1.000000 |
GradientBasedCorrBrightness | 0.000000 |
GradientBasedCorrClarity2012 (1) | 0.000000 |
GradientBasedCorrClarity2012 | -0.018520 |
GradientBasedCorrContrast2012 (1) | 0.018520 |
GradientBasedCorrContrast2012 | -0.148150 |
GradientBasedCorrDefringe | 0.000000 |
GradientBasedCorrExposure2012 (1) | 0.055500 |
GradientBasedCorrExposure2012 | 0.092500 |
GradientBasedCorrHighlights2012 (1) | 0.055560 |
GradientBasedCorrHighlights2012 | 0.796300 |
GradientBasedCorrHue | 0.000000 |
GradientBasedCorrLuminanceNoise | 0.000000 |
GradientBasedCorrMaskFullX (1) | 0.900104 |
GradientBasedCorrMaskFullX | 0.908742 |
GradientBasedCorrMaskFullY (1) | 0.430512 |
GradientBasedCorrMaskFullY | 0.428103 |
GradientBasedCorrMaskValue | 1.000000 |
GradientBasedCorrMaskWhat | Mask/Gradient |
GradientBasedCorrMaskZeroX (1) | 0.586665 |
GradientBasedCorrMaskZeroX | 0.618862 |
GradientBasedCorrMaskZeroY (1) | 0.477709 |
GradientBasedCorrMaskZeroY | 0.459508 |
GradientBasedCorrMoire (1) | 0.000000 |
GradientBasedCorrMoire | -0.148150 |
GradientBasedCorrSaturation (3) | 0.018520 |
GradientBasedCorrSaturation | 0.000000 |
GradientBasedCorrShadows2012 (1) | 0.000000 |
GradientBasedCorrShadows2012 | 1.000000 |
GradientBasedCorrSharpness | 0.018520 |
GradientBasedCorrTemperature (1) | 0.000000 |
GradientBasedCorrTemperature | 0.018520 |
GradientBasedCorrTint (1) | 0.000000 |
GradientBasedCorrTint | 0.407410 |
GradientBasedCorrWhat | Correction |
GrainAmount | 0 |
GrayMixerAqua | -94 |
GrayMixerBlue | -100 |
GrayMixerGreen | -76 |
GrayMixerMagenta | +4 |
GrayMixerOrange | -76 |
GrayMixerPurple | -56 |
GrayMixerRed | -72 |
GrayMixerYellow | -56 |
GreenHue | 0 |
GreenSaturation | 0 |
HasCrop | True |
HasSettings | True |
Highlights2012 | -100 |
HyperfocalDistance | 3.69 m |
ImageHeight | 1000 |
ImageNumber | 0 |
ImageSize | 708x1000 |
ImageWidth | 708 |
ISO | 100 |
Keywords | 2015-11-08. Huk |
Lens | EF14mm f/2.8L II USM |
LensID (1) | 247 |
LensID | Canon EF 14mm f/2.8L II USM |
LensInfo | 14mm f/? |
LensManualDistortionAmount | 0 |
LensModel | EF14mm f/2.8L II USM |
LensProfileChromaticAberrationScale | 100 |
LensProfileDistortionScale | 100 |
LensProfileEnable | 0 |
LensProfileFilename | Canon EOS 5D Mark II (Canon EF 14mm f2.8 L II USM) - RAW.lcp |
LensProfileName | Adobe (Canon EF 14mm f2.8 L II USM) |
LensProfileSetup | LensDefaults |
LensProfileVignettingScale | 100 |
LensSerialNumber | 000040228d |
LightValue | 13.0 |
LuminanceSmoothing | 0 |
Make | Canon |
Marked | True |
MaxApertureValue | 2.8 |
Megapixels | 0.708 |
MeteringMode | Multi-segment |
Model | Canon EOS 5D Mark III |
ModifyDate (1) | 2015:11:08 16:24:02+01:00 |
ModifyDate | 2015:11:08 16:24:02 |
PaintCorrectionActive | true |
PaintCorrectionAmount | 1.000000 |
PaintCorrectionBrightness | 0.000000 |
PaintCorrectionClarity2012 | 0.000000 |
PaintCorrectionContrast2012 | 0.018520 |
PaintCorrectionDefringe | 0.000000 |
PaintCorrectionExposure2012 | -0.907500 |
PaintCorrectionHighlights2012 | -0.944440 |
PaintCorrectionHue | 0.000000 |
PaintCorrectionLuminanceNoise | 0.000000 |
PaintCorrectionMaskCenterWeight | 0.114499 |
PaintCorrectionMaskFlow | 0.811000 |
PaintCorrectionMaskRadius | 0.086560 |
PaintCorrectionMaskValue | 0.745000 |
PaintCorrectionMaskWhat | Mask/Paint |
PaintCorrectionMoire | 0.000000 |
PaintCorrectionSaturation | 0.000000 |
PaintCorrectionShadows2012 | 0.000000 |
PaintCorrectionSharpness | 0.018520 |
PaintCorrectionTemperature | 0.000000 |
PaintCorrectionTint | 0.000000 |
PaintCorrectionWhat | Correction |
ParametricDarks | -4 |
ParametricHighlights | +22 |
ParametricHighlightSplit | 75 |
ParametricLights | -1 |
ParametricMidtoneSplit | 50 |
ParametricShadows | -9 |
ParametricShadowSplit | 25 |
PerspectiveAspect | 0 |
PerspectiveHorizontal | 0 |
PerspectiveRotate | 0.0 |
PerspectiveScale | 100 |
PerspectiveUpright | 0 |
PerspectiveVertical | 0 |
PostCropVignetteAmount | 0 |
ProcessVersion | 6.7 |
ProfileDescription | sRGB IEC61966-2.1 |
RecommendedExposureIndex | 100 |
RedHue | 0 |
RedSaturation | 0 |
Rights | Geir Manshaus |
ScaleFactor35efl | 5.6 |
SceneCaptureType | Standard |
SensitivityType | Recommended Exposure Index |
SerialNumber | 053024009161 |
Shadows2012 | -7 |
ShadowTint | 0 |
SharpenDetail | 25 |
SharpenEdgeMasking | 0 |
SharpenRadius | +1.0 |
Sharpness | 26 |
ShutterSpeed | 1/80 |
ShutterSpeedValue | 1/80 |
Software | Adobe Photoshop Lightroom 5.7 (Windows) |
SplitToningBalance | 0 |
SplitToningHighlightHue | 0 |
SplitToningHighlightSaturation | 0 |
SplitToningShadowHue | 0 |
SplitToningShadowSaturation | 0 |
Subject | 2015-11-08. Huk |
Tint | +8 |
ToneCurve | 0, 0, 255, 255 |
ToneCurveBlue | 0, 0, 255, 255 |
ToneCurveGreen | 0, 0, 255, 255 |
ToneCurveName | Linear |
ToneCurveName2012 | Linear |
ToneCurvePV2012 | 0, 0, 255, 255 |
ToneCurvePV2012Blue | 0, 0, 255, 255 |
ToneCurvePV2012Green | 0, 0, 255, 255 |
ToneCurvePV2012Red | 0, 0, 255, 255 |
ToneCurveRed | 0, 0, 255, 255 |
Version | 8.7 |
VignetteAmount | 0 |
WhiteBalance (1) | As Shot |
WhiteBalance | Auto |
Whites2012 | +59 |