Felt | Verdi |
2015-11-02T20:14:16+01:00 Filen 20151101_6377.tif er lagret
2015-11-02T20:16:09+01:00 Filen 20151101_6377.jpg er lagret
AlreadyApplied | True |
Aperture | 8.0 |
ApertureValue | 8.0 |
ApproximateFocusDistance | 1.7 |
AutoLateralCA | 0 |
AutoWhiteVersion | 134348800 |
BitsPerSample | 8 |
Blacks2012 | 0 |
BlueHue | 0 |
BlueSaturation | 0 |
CameraProfile | Camera Standard |
CircleOfConfusion | 0.005 mm |
Clarity2012 | 0 |
ColorComponents | 3 |
ColorMode | RGB |
ColorNoiseReduction | 25 |
ColorNoiseReductionDetail | 50 |
ColorNoiseReductionSmoothness | 50 |
ColorSpace | Uncalibrated |
ColorTemperature | 5500 |
ColorTransform | YCbCr |
Contrast2012 | -13 |
ConvertToGrayscale | False |
Copyright | Hasselblad H4D |
CopyrightNotice | Hasselblad H4D |
CreateDate | 2015:11:01 15:20:07 |
CreatorTool | 370:42:513:39:0:26:80:0:0.0.0 |
DateCreated (1) | 2015:11:01 |
DateCreated | 2015:11:01 15:20:07 |
DateTimeOriginal | 2015:11:01 15:20:07 |
DefringeGreenAmount | 0 |
DefringeGreenHueHi | 60 |
DefringeGreenHueLo | 40 |
DefringePurpleAmount | 0 |
DefringePurpleHueHi | 70 |
DefringePurpleHueLo | 30 |
Dehaze | 0 |
DOF | 0.017 m (1.692 - 1.708 m) |
ExifImageHeight | 900 |
ExifImageWidth | 663 |
Exposure2012 | -0.40 |
ExposureProgram | Manual |
ExposureTime | 1/250 |
FNumber | 8.0 |
FocalLength | 110.0 mm |
FocalLength35efl | 110.0 mm (35 mm equivalent: 709.6 mm) |
Format | image/jpeg |
FOV | 2.9 deg |
GrainAmount | 0 |
GreenHue | 0 |
GreenSaturation | 0 |
HasCrop | False |
HasSettings | True |
Highlights2012 | 0 |
HueAdjustmentAqua | 0 |
HueAdjustmentBlue | 0 |
HueAdjustmentGreen | 0 |
HueAdjustmentMagenta | 0 |
HueAdjustmentOrange | 0 |
HueAdjustmentPurple | 0 |
HueAdjustmentRed | 0 |
HueAdjustmentYellow | 0 |
HyperfocalDistance | 324.73 m |
ICCProfileName | Adobe RGB (1998) |
ImageHeight | 900 |
ImageSize | 663x900 |
ImageWidth | 663 |
ISO | 100 |
Lens | HC 50-110 |
LensManualDistortionAmount | 0 |
LensModel | HC 50-110 |
LensProfileEnable | 0 |
LensProfileSetup | LensDefaults |
LightValue | 14.0 |
LuminanceAdjustmentAqua | 0 |
LuminanceAdjustmentBlue | 0 |
LuminanceAdjustmentGreen | 0 |
LuminanceAdjustmentMagenta | 0 |
LuminanceAdjustmentOrange | 0 |
LuminanceAdjustmentPurple | 0 |
LuminanceAdjustmentRed | 0 |
LuminanceAdjustmentYellow | 0 |
LuminanceSmoothing | 0 |
Make | Hasselblad |
Megapixels | 0.597 |
MeteringMode | Center-weighted average |
Model | Hasselblad H4D |
ModifyDate (1) | 2015:11:02 20:16:09+01:00 |
ModifyDate | 2015:11:02 20:16:09 |
Orientation | Horizontal (normal) |
ParametricDarks | 0 |
ParametricHighlights | 0 |
ParametricHighlightSplit | 75 |
ParametricLights | 0 |
ParametricMidtoneSplit | 50 |
ParametricShadows | 0 |
ParametricShadowSplit | 25 |
PerspectiveAspect | 0 |
PerspectiveHorizontal | 0 |
PerspectiveRotate | 0.0 |
PerspectiveScale | 100 |
PerspectiveUpright | 0 |
PerspectiveVertical | 0 |
PostCropVignetteAmount | 0 |
ProcessVersion | 6.7 |
ProfileDescription | Adobe RGB (1998) |
Rating | 0 |
RawFileName | 20151101_6377.3FR |
RedHue | 0 |
RedSaturation | 0 |
Rights | Hasselblad H4D |
Saturation | 0 |
SaturationAdjustmentAqua | 0 |
SaturationAdjustmentBlue | 0 |
SaturationAdjustmentGreen | 0 |
SaturationAdjustmentMagenta | 0 |
SaturationAdjustmentOrange | 0 |
SaturationAdjustmentPurple | 0 |
SaturationAdjustmentRed | 0 |
SaturationAdjustmentYellow | 0 |
ScaleFactor35efl | 6.5 |
Shadows2012 | +89 |
ShadowTint | 0 |
SharpenDetail | 25 |
SharpenEdgeMasking | 0 |
SharpenRadius | +1.0 |
Sharpness | 25 |
ShutterSpeed | 1/250 |
ShutterSpeedValue | 1/250 |
Software | Adobe Photoshop CC 2015 (Macintosh) |
SplitToningBalance | 0 |
SplitToningHighlightHue | 0 |
SplitToningHighlightSaturation | 0 |
SplitToningShadowHue | 0 |
SplitToningShadowSaturation | 0 |
Tint | 0 |
ToneCurve | 0, 0, 32, 22, 64, 56, 128, 128, 192, 196, 255, 255 |
ToneCurveBlue | 0, 0, 255, 255 |
ToneCurveGreen | 0, 0, 255, 255 |
ToneCurveName | Medium Contrast |
ToneCurveName2012 | Linear |
ToneCurvePV2012 | 0, 0, 255, 255 |
ToneCurvePV2012Blue | 0, 0, 255, 255 |
ToneCurvePV2012Green | 0, 0, 255, 255 |
ToneCurvePV2012Red | 0, 0, 255, 255 |
ToneCurveRed | 0, 0, 255, 255 |
ToneMapStrength | 0 |
URL_List | |
Version | 9.1.1 |
Vibrance | 0 |
VignetteAmount | 0 |
WhiteBalance | As Shot |
Whites2012 | 0 |