Felt | Verdi |
AlreadyApplied | True |
AutoLateralCA | 0 |
BitsPerSample | 8 |
Blacks2012 | -1 |
BlueHue | 0 |
BlueSaturation | 0 |
CameraProfile | Embedded |
Clarity2012 | +15 |
ColorComponents | 3 |
ColorMode | RGB |
ColorNoiseReduction | 0 |
ColorSpace | Uncalibrated |
ColorTransform | YCbCr |
Contrast2012 | +4 |
ConvertToGrayscale | False |
CreateDate | 2015:05:13 18:28:12 |
CreatorTool | Adobe Photoshop CS6 (Macintosh) |
DefringeGreenAmount | 0 |
DefringeGreenHueHi | 60 |
DefringeGreenHueLo | 40 |
DefringePurpleAmount | 0 |
DefringePurpleHueHi | 70 |
DefringePurpleHueLo | 30 |
ExifImageHeight | 3651 |
ExifImageWidth | 3651 |
Exposure2012 | -0.15 |
Format | image/jpeg |
GrainAmount | 0 |
GreenHue | 0 |
GreenSaturation | 0 |
HasCrop | False |
HasSettings | True |
Highlights2012 | -18 |
HueAdjustmentAqua | 0 |
HueAdjustmentBlue | +11 |
HueAdjustmentGreen | -18 |
HueAdjustmentMagenta | 0 |
HueAdjustmentOrange | +11 |
HueAdjustmentPurple | 0 |
HueAdjustmentRed | -18 |
HueAdjustmentYellow | -43 |
ICCProfileName | ProPhoto RGB |
ImageHeight | 3651 |
ImageSize | 3651x3651 |
ImageWidth | 3651 |
IncrementalTemperature | 0 |
IncrementalTint | 0 |
LensManualDistortionAmount | 0 |
LensProfileEnable | 0 |
LensProfileSetup | LensDefaults |
LuminanceAdjustmentAqua | -1 |
LuminanceAdjustmentBlue | +6 |
LuminanceAdjustmentGreen | -3 |
LuminanceAdjustmentMagenta | 0 |
LuminanceAdjustmentOrange | +4 |
LuminanceAdjustmentPurple | 0 |
LuminanceAdjustmentRed | -6 |
LuminanceAdjustmentYellow | -15 |
LuminanceSmoothing | 0 |
Megapixels | 13.3 |
ModifyDate (1) | 2015:05:13 19:03:32+02:00 |
ModifyDate | 2015:05:13 19:03:32 |
Orientation | Horizontal (normal) |
ParametricDarks | +1 |
ParametricHighlights | -7 |
ParametricHighlightSplit | 75 |
ParametricLights | +1 |
ParametricMidtoneSplit | 50 |
ParametricShadows | +2 |
ParametricShadowSplit | 25 |
PerspectiveHorizontal | 0 |
PerspectiveRotate | 0.0 |
PerspectiveScale | 100 |
PerspectiveVertical | 0 |
PostCropVignetteAmount | 0 |
ProcessVersion | 6.7 |
ProfileDescription | ProPhoto RGB |
Rating | 0 |
RawFileName | IMG_32011.jpg |
RedHue | 0 |
RedSaturation | 0 |
Saturation | +4 |
SaturationAdjustmentAqua | 0 |
SaturationAdjustmentBlue | -5 |
SaturationAdjustmentGreen | +3 |
SaturationAdjustmentMagenta | -10 |
SaturationAdjustmentOrange | +3 |
SaturationAdjustmentPurple | -5 |
SaturationAdjustmentRed | -14 |
SaturationAdjustmentYellow | -13 |
Shadows2012 | +16 |
ShadowTint | 0 |
SharpenDetail | 25 |
SharpenEdgeMasking | 0 |
SharpenRadius | +1.0 |
Sharpness | 0 |
Software | Adobe Photoshop CS6 (Macintosh) |
SplitToningBalance | +11 |
SplitToningHighlightHue | 57 |
SplitToningHighlightSaturation | 5 |
SplitToningShadowHue | 206 |
SplitToningShadowSaturation | 0 |
ToneCurveName2012 | Linear |
ToneCurvePV2012 | 0, 0, 255, 255 |
ToneCurvePV2012Blue | 0, 0, 255, 255 |
ToneCurvePV2012Green | 0, 0, 255, 255 |
ToneCurvePV2012Red | 0, 0, 255, 255 |
URL_List | |
Version | 7.3 |
Vibrance | 0 |
VignetteAmount | 0 |
WhiteBalance | As Shot |
Whites2012 | 0 |