Felt | Verdi |
AlreadyApplied | True |
Aperture | 7.1 |
ApertureValue | 7.1 |
ApproximateFocusDistance | 2.24 |
BitsPerSample | 8 |
BlueHue | 0 |
BlueSaturation | +20 |
Brightness | +50 |
CameraProfile | Adobe Standard |
CFAPattern | [Red,Green][Green,Blue] |
ChromaticAberrationB | 0 |
ChromaticAberrationR | 0 |
CircleOfConfusion | 0.020 mm |
Clarity | +65 |
ColorComponents | 3 |
ColorNoiseReduction | 25 |
ColorNoiseReductionDetail | 50 |
ColorTemperature | 6200 |
ColorTransform | YCbCr |
Contrast (1) | +60 |
Contrast | Normal |
ConvertToGrayscale | False |
CreateDate (1) | 2014:12:17 19:10:29.20 |
CreateDate | 2014:12:17 19:10:29 |
CreatorTool | Adobe Photoshop Camera Raw 6.5 (Macintosh) |
CustomRendered | Normal |
DateCreated (1) | 2014:12:17 |
DateCreated | 2014:12:17 19:10:29.20 |
DateTimeOriginal | 2014:12:17 19:10:29 |
Defringe | 2 |
DigitalZoomRatio | 1 |
DOF | 89.71 m (1.13 - 90.84 m) |
Exposure | 0.00 |
ExposureCompensation | 0 |
ExposureMode | Auto |
ExposureProgram | Aperture-priority AE |
ExposureTime | 1/10 |
FillLight | 5 |
Flash | No Flash |
FNumber | 7.1 |
FocalLength | 18.0 mm |
FocalLength35efl | 18.0 mm (35 mm equivalent: 27.0 mm) |
FocalLengthIn35mmFormat | 27 mm |
Format | image/jpeg |
FOV | 67.4 deg |
GainControl | None |
GradientBasedCorrActive | true |
GradientBasedCorrAmount | 1.000000 |
GradientBasedCorrBrightness | 0.000000 |
GradientBasedCorrClarity (1) | 0.500000 |
GradientBasedCorrClarity | 0.750000 |
GradientBasedCorrContrast (1) | 0.550000 |
GradientBasedCorrContrast | 0.800000 |
GradientBasedCorrExposure (1) | 0.250000 |
GradientBasedCorrExposure | -0.325000 |
GradientBasedCorrHue | 0.000000 |
GradientBasedCorrMaskFullX (1) | 0.578885 |
GradientBasedCorrMaskFullX | 0.456913 |
GradientBasedCorrMaskFullY (1) | 0.992832 |
GradientBasedCorrMaskFullY | 0.294434 |
GradientBasedCorrMaskValue | 1.000000 |
GradientBasedCorrMaskWhat | Mask/Gradient |
GradientBasedCorrMaskZeroX (1) | 0.580071 |
GradientBasedCorrMaskZeroX | 0.451526 |
GradientBasedCorrMaskZeroY (1) | 0.286738 |
GradientBasedCorrMaskZeroY | 0.602011 |
GradientBasedCorrSaturation (3) | 0.250000 |
GradientBasedCorrSaturation | 0.000000 |
GradientBasedCorrSharpness (1) | 0.000000 |
GradientBasedCorrSharpness | 0.460000 |
GradientBasedCorrWhat | Correction |
GrainAmount | 0 |
GreenHue | 0 |
GreenSaturation | 0 |
HasCrop | False |
HasExtendedXMP | 1AD58DF037256CCD2A310E69C03B3F60 |
HasSettings | True |
HighlightRecovery | 100 |
HueAdjustmentAqua | 0 |
HueAdjustmentBlue | +50 |
HueAdjustmentGreen | -73 |
HueAdjustmentMagenta | 0 |
HueAdjustmentOrange | 0 |
HueAdjustmentPurple | 0 |
HueAdjustmentRed | 0 |
HueAdjustmentYellow | -20 |
HyperfocalDistance | 2.28 m |
ImageHeight | 3264 |
ImageNumber | 5013 |
ImageSize | 4928x3264 |
ImageWidth | 4928 |
ISO | 100 |
Lens | 18.0-55.0 mm f/3.5-5.6 |
LensID (1) | 154 |
LensID | AF-S DX VR Zoom-Nikkor 18-55mm f/3.5-5.6G |
LensInfo | 18-55mm f/3.5-5.6 |
LensManualDistortionAmount | 0 |
LensModel | 18.0-55.0 mm f/3.5-5.6 |
LensProfileChromaticAberrationScale | 100 |
LensProfileDistortionScale | 100 |
LensProfileEnable | 1 |
LensProfileFilename | NIKON D90 (Nikon AF-S DX NIKKOR 18-55mm f3.5-5.6G VR) - RAW.lcp |
LensProfileName | Adobe (Nikon AF-S DX NIKKOR 18-55mm f/3.5-5.6G VR) |
LensProfileSetup | LensDefaults |
LensProfileVignettingScale | 100 |
LightSource | Unknown |
LightValue | 9.0 |
LuminanceAdjustmentAqua | 0 |
LuminanceAdjustmentBlue | 0 |
LuminanceAdjustmentGreen | -72 |
LuminanceAdjustmentMagenta | 0 |
LuminanceAdjustmentOrange | -20 |
LuminanceAdjustmentPurple | 0 |
LuminanceAdjustmentRed | 0 |
LuminanceAdjustmentYellow | -30 |
LuminanceNoiseReductionContrast | 0 |
LuminanceNoiseReductionDetail | 50 |
LuminanceSmoothing | 30 |
Make | NIKON CORPORATION |
MaxApertureValue | 3.5 |
Megapixels | 16.1 |
MeteringMode | Multi-segment |
Model | NIKON D5100 |
ModifyDate (1) | 2014:12:22 01:21:58+01:00 |
ModifyDate | 2014:12:22 01:21:58 |
PaintCorrectionActive | true |
PaintCorrectionAmount | 1.000000 |
PaintCorrectionBrightness | 0.000000 |
PaintCorrectionClarity | 0.000000 |
PaintCorrectionContrast | 0.000000 |
PaintCorrectionExposure (1) | -0.125000 |
PaintCorrectionExposure | 0.125000 |
PaintCorrectionHue | 0.000000 |
PaintCorrectionMaskCenterWeight (2) | 0.000000 |
PaintCorrectionMaskCenterWeight | 1.000000 |
PaintCorrectionMaskFlow (25) | 1.000000 |
PaintCorrectionMaskFlow | 0.888889 |
PaintCorrectionMaskRadius (1) | 0.036990 |
PaintCorrectionMaskRadius (10) | 0.004724 |
PaintCorrectionMaskRadius (11) | 0.005127 |
PaintCorrectionMaskRadius (12) | 0.008650 |
PaintCorrectionMaskRadius (13) | 0.034718 |
PaintCorrectionMaskRadius (14) | 0.035519 |
PaintCorrectionMaskRadius (15) | 0.035337 |
PaintCorrectionMaskRadius (16) | 0.003350 |
PaintCorrectionMaskRadius (17) | 0.003266 |
PaintCorrectionMaskRadius (18) | 0.003216 |
PaintCorrectionMaskRadius (19) | 0.003245 |
PaintCorrectionMaskRadius (2) | 0.036878 |
PaintCorrectionMaskRadius (20) | 0.003207 |
PaintCorrectionMaskRadius (21) | 0.019124 |
PaintCorrectionMaskRadius (22) | 0.034346 |
PaintCorrectionMaskRadius (23) | 0.034238 |
PaintCorrectionMaskRadius (24) | 0.033755 |
PaintCorrectionMaskRadius (25) | 0.020728 |
PaintCorrectionMaskRadius (26) | 0.018134 |
PaintCorrectionMaskRadius (27) | 0.008169 |
PaintCorrectionMaskRadius (28) | 0.008288 |
PaintCorrectionMaskRadius (29) | 0.008372 |
PaintCorrectionMaskRadius (3) | 0.014339 |
PaintCorrectionMaskRadius (30) | 0.008518 |
PaintCorrectionMaskRadius (31) | 0.020927 |
PaintCorrectionMaskRadius (4) | 0.013811 |
PaintCorrectionMaskRadius (5) | 0.013907 |
PaintCorrectionMaskRadius (6) | 0.005000 |
PaintCorrectionMaskRadius (7) | 0.005085 |
PaintCorrectionMaskRadius (8) | 0.005128 |
PaintCorrectionMaskRadius (9) | 0.004989 |
PaintCorrectionMaskRadius | 0.008206 |
PaintCorrectionMaskValue (2) | 1.000000 |
PaintCorrectionMaskValue | 0.000000 |
PaintCorrectionMaskWhat | Mask/Paint |
PaintCorrectionSaturation | 0.000000 |
PaintCorrectionSharpness | 0.000000 |
PaintCorrectionWhat | Correction |
ParametricDarks | +15 |
ParametricHighlights | 0 |
ParametricHighlightSplit | 75 |
ParametricLights | -15 |
ParametricMidtoneSplit | 50 |
ParametricShadows | 0 |
ParametricShadowSplit | 25 |
PerspectiveHorizontal | 0 |
PerspectiveRotate | 0.0 |
PerspectiveScale | 100 |
PerspectiveVertical | 0 |
PostCropVignetteAmount | 0 |
ProcessVersion | 5.7 |
ProfileDescription | Adobe RGB (1998) |
RatingPercent | 0 |
RawFileName | Gran Canaria20141217185.NEF |
RedHue | 0 |
RedSaturation | +5 |
Saturation (1) | +20 |
Saturation | Normal |
SaturationAdjustmentAqua | 0 |
SaturationAdjustmentBlue | +35 |
SaturationAdjustmentGreen | 0 |
SaturationAdjustmentMagenta | 0 |
SaturationAdjustmentOrange | +25 |
SaturationAdjustmentPurple | 0 |
SaturationAdjustmentRed | 0 |
SaturationAdjustmentYellow | +15 |
ScaleFactor35efl | 1.5 |
SceneCaptureType | Standard |
SceneType | Directly photographed |
SensingMethod | One-chip color area |
SerialNumber | 7224597 |
Shadows | 0 |
ShadowTint | +5 |
SharpenDetail | 25 |
SharpenEdgeMasking | 38 |
SharpenRadius | +1.0 |
Sharpness (1) | 40 |
Sharpness | Normal |
ShutterSpeed | 1/10 |
ShutterSpeedValue | 1/10 |
Software | Adobe Photoshop Camera Raw 6.5 (Macintosh) |
SplitToningBalance | 0 |
SplitToningHighlightHue | 30 |
SplitToningHighlightSaturation | 20 |
SplitToningShadowHue | 35 |
SplitToningShadowSaturation | 10 |
SubjectDistance | 2.24 m |
SubjectDistanceRange | Unknown |
Tint | +8 |
ToneCurve | 0, 0, 32, 22, 64, 56, 128, 128, 192, 196, 255, 255 |
ToneCurveName | Medium Contrast |
Version | 6.5 |
Vibrance | +53 |
VignetteAmount | -15 |
VignetteMidpoint | 50 |
WhiteBalance (1) | Custom |
WhiteBalance | Auto |