Felt | Verdi |
AlreadyApplied | True |
Aperture | 7.1 |
ApertureValue | 7.1 |
AutoLateralCA | 0 |
AutoWhiteVersion | 134348800 |
BitsPerSample | 8 |
Blacks2012 | +57 |
BlueHue | 0 |
BlueSaturation | 0 |
CameraProfile | Embedded |
CircleOfConfusion | 0.005 mm |
Clarity2012 | -69 |
ColorComponents | 3 |
ColorNoiseReduction | 43 |
ColorNoiseReductionDetail | 50 |
ColorNoiseReductionSmoothness | 51 |
ColorSpace | sRGB |
ColorTransform | YCbCr |
Contrast2012 | +90 |
ConvertToGrayscale | True |
CreateDate | 2003:04:20 08:16:34 |
CreatorTool | Adobe Photoshop Lightroom 5.6 (Windows) |
CropAngle | 0 |
CropBottom | 0.957978 |
CropConstrainToWarp | 1 |
CropLeft | 0.042022 |
CropRight | 0.957978 |
CropTop | 0.042022 |
CustomRendered | Normal |
DateCreated (1) | 2003:04:20 |
DateCreated | 2003:04:20 08:16:34 |
DateTimeOriginal | 2003:04:20 08:16:34 |
DigitalZoomRatio | 1 |
Exposure2012 | -0.71 |
ExposureCompensation | 0 |
ExposureMode | Auto |
ExposureTime | 1/125 |
Firmware | 00.00 |
Flash | Auto, Did not fire |
FlashCompensation | 0 |
FNumber | 7.1 |
FocalLength | 5.4 mm |
FocalLength35efl | 5.4 mm (35 mm equivalent: 35.7 mm) |
Format | image/jpeg |
FOV | 53.5 deg |
GrainAmount | 0 |
GrayMixerAqua | -73 |
GrayMixerBlue | -47 |
GrayMixerGreen | -67 |
GrayMixerMagenta | -69 |
GrayMixerOrange | -84 |
GrayMixerPurple | -11 |
GrayMixerRed | -87 |
GrayMixerYellow | +69 |
GreenHue | 0 |
GreenSaturation | 0 |
HasCrop | True |
HasExtendedXMP | 7ADB12DEB1B37412A48BAC8294735EC8 |
HasSettings | True |
Highlights2012 | -14 |
HyperfocalDistance | 0.91 m |
ImageHeight | 1099 |
ImageSize | 1466x1099 |
ImageWidth | 1466 |
IncrementalTemperature | -5 |
IncrementalTint | -7 |
Lens | 5.4-10.8 mm |
LensInfo | 5.40625-10.8125mm f/? |
LensManualDistortionAmount | 0 |
LensModel | 5.4-10.8 mm |
LensProfileEnable | 0 |
LensProfileSetup | LensDefaults |
LuminanceNoiseReductionContrast | 0 |
LuminanceNoiseReductionDetail | 50 |
LuminanceSmoothing | 10 |
Make | Canon |
MaxApertureValue | 2.9 |
Megapixels | 1.6 |
Model | Canon DIGITAL IXUS v2 |
ModifyDate (1) | 2014:08:11 12:41:11+02:00 |
ModifyDate | 2014:08:11 12:41:11 |
PaintCorrectionActive | true |
PaintCorrectionAmount | 1.000000 |
PaintCorrectionBrightness | 0.000000 |
PaintCorrectionClarity2012 (10) | 0.571430 |
PaintCorrectionClarity2012 (11) | 0.738100 |
PaintCorrectionClarity2012 (12) | 0.595240 |
PaintCorrectionClarity2012 (13) | 0.857140 |
PaintCorrectionClarity2012 (14) | 0.523810 |
PaintCorrectionClarity2012 (3) | 0.833330 |
PaintCorrectionClarity2012 (4) | -0.595240 |
PaintCorrectionClarity2012 (5) | 0.500000 |
PaintCorrectionClarity2012 (7) | 0.619050 |
PaintCorrectionClarity2012 | 0.023810 |
PaintCorrectionContrast2012 (15) | 0.738100 |
PaintCorrectionContrast2012 (2) | 1.000000 |
PaintCorrectionContrast2012 (5) | 0.380950 |
PaintCorrectionContrast2012 (6) | -0.642860 |
PaintCorrectionContrast2012 | 0.000000 |
PaintCorrectionDefringe | 0.000000 |
PaintCorrectionExposure2012 (1) | -0.071500 |
PaintCorrectionExposure2012 (11) | -0.166750 |
PaintCorrectionExposure2012 (12) | 0.404750 |
PaintCorrectionExposure2012 (14) | -0.214250 |
PaintCorrectionExposure2012 (15) | 0.000000 |
PaintCorrectionExposure2012 (2) | -0.928500 |
PaintCorrectionExposure2012 (5) | 0.047500 |
PaintCorrectionExposure2012 (6) | -0.238000 |
PaintCorrectionExposure2012 (9) | 0.166750 |
PaintCorrectionExposure2012 | 0.190500 |
PaintCorrectionHighlights2012 (10) | 0.023810 |
PaintCorrectionHighlights2012 (11) | 0.785710 |
PaintCorrectionHighlights2012 (15) | 0.952380 |
PaintCorrectionHighlights2012 (2) | -0.809520 |
PaintCorrectionHighlights2012 (4) | -0.119050 |
PaintCorrectionHighlights2012 (6) | -0.380950 |
PaintCorrectionHighlights2012 | 0.000000 |
PaintCorrectionHue | 0.000000 |
PaintCorrectionLuminanceNoise | 0.000000 |
PaintCorrectionMaskCenterWeight | 0.000000 |
PaintCorrectionMaskFlow | 1.000000 |
PaintCorrectionMaskRadius (1) | 0.076282 |
PaintCorrectionMaskRadius (10) | 0.057021 |
PaintCorrectionMaskRadius (100) | 0.107065 |
PaintCorrectionMaskRadius (101) | 0.098368 |
PaintCorrectionMaskRadius (102) | 0.099051 |
PaintCorrectionMaskRadius (103) | 0.060911 |
PaintCorrectionMaskRadius (11) | 0.059581 |
PaintCorrectionMaskRadius (12) | 0.055119 |
PaintCorrectionMaskRadius (13) | 0.055912 |
PaintCorrectionMaskRadius (14) | 0.056520 |
PaintCorrectionMaskRadius (15) | 0.055840 |
PaintCorrectionMaskRadius (16) | 0.055162 |
PaintCorrectionMaskRadius (17) | 0.058506 |
PaintCorrectionMaskRadius (18) | 0.055233 |
PaintCorrectionMaskRadius (19) | 0.055702 |
PaintCorrectionMaskRadius (2) | 0.006372 |
PaintCorrectionMaskRadius (20) | 0.055246 |
PaintCorrectionMaskRadius (21) | 0.058582 |
PaintCorrectionMaskRadius (22) | 0.095581 |
PaintCorrectionMaskRadius (23) | 0.097034 |
PaintCorrectionMaskRadius (24) | 0.101532 |
PaintCorrectionMaskRadius (25) | 0.097119 |
PaintCorrectionMaskRadius (26) | 0.097367 |
PaintCorrectionMaskRadius (27) | 0.096843 |
PaintCorrectionMaskRadius (28) | 0.070966 |
PaintCorrectionMaskRadius (29) | 0.027061 |
PaintCorrectionMaskRadius (3) | 0.006396 |
PaintCorrectionMaskRadius (30) | 0.060981 |
PaintCorrectionMaskRadius (31) | 0.061858 |
PaintCorrectionMaskRadius (32) | 0.060451 |
PaintCorrectionMaskRadius (33) | 0.060708 |
PaintCorrectionMaskRadius (34) | 0.060341 |
PaintCorrectionMaskRadius (35) | 0.060801 |
PaintCorrectionMaskRadius (36) | 0.060661 |
PaintCorrectionMaskRadius (37) | 0.039901 |
PaintCorrectionMaskRadius (38) | 0.039805 |
PaintCorrectionMaskRadius (39) | 0.040241 |
PaintCorrectionMaskRadius (4) | 0.006384 |
PaintCorrectionMaskRadius (40) | 0.040204 |
PaintCorrectionMaskRadius (41) | 0.040092 |
PaintCorrectionMaskRadius (42) | 0.039786 |
PaintCorrectionMaskRadius (43) | 0.040359 |
PaintCorrectionMaskRadius (44) | 0.040367 |
PaintCorrectionMaskRadius (45) | 0.040368 |
PaintCorrectionMaskRadius (46) | 0.039902 |
PaintCorrectionMaskRadius (47) | 0.039826 |
PaintCorrectionMaskRadius (48) | 0.039835 |
PaintCorrectionMaskRadius (49) | 0.039907 |
PaintCorrectionMaskRadius (5) | 0.002223 |
PaintCorrectionMaskRadius (50) | 0.039953 |
PaintCorrectionMaskRadius (51) | 0.039060 |
PaintCorrectionMaskRadius (52) | 0.039508 |
PaintCorrectionMaskRadius (53) | 0.039728 |
PaintCorrectionMaskRadius (54) | 0.039175 |
PaintCorrectionMaskRadius (55) | 0.039178 |
PaintCorrectionMaskRadius (56) | 0.039166 |
PaintCorrectionMaskRadius (57) | 0.039558 |
PaintCorrectionMaskRadius (58) | 0.039958 |
PaintCorrectionMaskRadius (59) | 0.039415 |
PaintCorrectionMaskRadius (6) | 0.002211 |
PaintCorrectionMaskRadius (60) | 0.039244 |
PaintCorrectionMaskRadius (61) | 0.039426 |
PaintCorrectionMaskRadius (62) | 0.036239 |
PaintCorrectionMaskRadius (63) | 0.040637 |
PaintCorrectionMaskRadius (64) | 0.036648 |
PaintCorrectionMaskRadius (65) | 0.033833 |
PaintCorrectionMaskRadius (66) | 0.039276 |
PaintCorrectionMaskRadius (67) | 0.038999 |
PaintCorrectionMaskRadius (68) | 0.039336 |
PaintCorrectionMaskRadius (69) | 0.039353 |
PaintCorrectionMaskRadius (7) | 0.074490 |
PaintCorrectionMaskRadius (70) | 0.039324 |
PaintCorrectionMaskRadius (71) | 0.039690 |
PaintCorrectionMaskRadius (72) | 0.039837 |
PaintCorrectionMaskRadius (73) | 0.039814 |
PaintCorrectionMaskRadius (74) | 0.039720 |
PaintCorrectionMaskRadius (75) | 0.040130 |
PaintCorrectionMaskRadius (76) | 0.040122 |
PaintCorrectionMaskRadius (77) | 0.040346 |
PaintCorrectionMaskRadius (78) | 0.039821 |
PaintCorrectionMaskRadius (79) | 0.039756 |
PaintCorrectionMaskRadius (8) | 0.075690 |
PaintCorrectionMaskRadius (80) | 0.039768 |
PaintCorrectionMaskRadius (81) | 0.039559 |
PaintCorrectionMaskRadius (82) | 0.039113 |
PaintCorrectionMaskRadius (83) | 0.039351 |
PaintCorrectionMaskRadius (84) | 0.039386 |
PaintCorrectionMaskRadius (85) | 0.039150 |
PaintCorrectionMaskRadius (86) | 0.039519 |
PaintCorrectionMaskRadius (87) | 0.039775 |
PaintCorrectionMaskRadius (88) | 0.039893 |
PaintCorrectionMaskRadius (89) | 0.039664 |
PaintCorrectionMaskRadius (9) | 0.058383 |
PaintCorrectionMaskRadius (90) | 0.039366 |
PaintCorrectionMaskRadius (91) | 0.039165 |
PaintCorrectionMaskRadius (92) | 0.039338 |
PaintCorrectionMaskRadius (93) | 0.036770 |
PaintCorrectionMaskRadius (94) | 0.036559 |
PaintCorrectionMaskRadius (95) | 0.036367 |
PaintCorrectionMaskRadius (96) | 0.037833 |
PaintCorrectionMaskRadius (97) | 0.038624 |
PaintCorrectionMaskRadius (98) | 0.039444 |
PaintCorrectionMaskRadius (99) | 0.038907 |
PaintCorrectionMaskRadius | 0.061995 |
PaintCorrectionMaskValue | 0.965000 |
PaintCorrectionMaskWhat | Mask/Paint |
PaintCorrectionMoire | 0.000000 |
PaintCorrectionSaturation | 0.000000 |
PaintCorrectionShadows2012 (11) | 0.357140 |
PaintCorrectionShadows2012 (13) | 0.000000 |
PaintCorrectionShadows2012 (15) | 0.452380 |
PaintCorrectionShadows2012 (2) | -0.809520 |
PaintCorrectionShadows2012 (3) | 0.190480 |
PaintCorrectionShadows2012 (7) | 0.595240 |
PaintCorrectionShadows2012 (8) | 0.119050 |
PaintCorrectionShadows2012 | -0.476190 |
PaintCorrectionSharpness | 0.023810 |
PaintCorrectionTemperature (1) | -0.071430 |
PaintCorrectionTemperature | 0.000000 |
PaintCorrectionTint | 0.000000 |
PaintCorrectionWhat | Correction |
ParametricDarks | -20 |
ParametricHighlights | +22 |
ParametricHighlightSplit | 75 |
ParametricLights | -65 |
ParametricMidtoneSplit | 50 |
ParametricShadows | -9 |
ParametricShadowSplit | 25 |
PerspectiveAspect | 0 |
PerspectiveHorizontal | 0 |
PerspectiveRotate | 0.0 |
PerspectiveScale | 100 |
PerspectiveUpright | 0 |
PerspectiveVertical | -26 |
PostCropVignetteAmount | -10 |
PostCropVignetteFeather | 50 |
PostCropVignetteHighlightContrast | 0 |
PostCropVignetteMidpoint | 50 |
PostCropVignetteRoundness | 0 |
PostCropVignetteStyle | 1 |
ProcessVersion | 6.7 |
ProfileDescription | sRGB IEC61966-2.1 |
RedHue | 0 |
RedSaturation | 0 |
ScaleFactor35efl | 6.6 |
SceneCaptureType | Standard |
Shadows2012 | +69 |
ShadowTint | 0 |
SharpenDetail | 25 |
SharpenEdgeMasking | 0 |
SharpenRadius | +1.0 |
Sharpness | 0 |
ShutterSpeed | 1/125 |
ShutterSpeedValue | 1/125 |
Software | Adobe Photoshop Lightroom 5.6 (Windows) |
SplitToningBalance | -14 |
SplitToningHighlightHue | 0 |
SplitToningHighlightSaturation | 0 |
SplitToningShadowHue | 0 |
SplitToningShadowSaturation | 0 |
ToneCurve | 0, 0, 255, 255 |
ToneCurveBlue | 0, 0, 255, 255 |
ToneCurveGreen | 0, 0, 255, 255 |
ToneCurveName | Linear |
ToneCurveName2012 | Linear |
ToneCurvePV2012 | 0, 0, 255, 255 |
ToneCurvePV2012Blue | 0, 0, 255, 255 |
ToneCurvePV2012Green | 0, 0, 255, 255 |
ToneCurvePV2012Red | 0, 0, 255, 255 |
ToneCurveRed | 0, 0, 255, 255 |
Version | 8.6 |
VignetteAmount | -2 |
VignetteMidpoint | 50 |
WhiteBalance (1) | Custom |
WhiteBalance | Auto |
Whites2012 | -62 |