Felt | Verdi |
AlreadyApplied | True |
Aperture | 5.6 |
ApertureValue | 5.6 |
ApproximateFocusDistance | 4294967295 |
Artist | Zoltan Tot |
AutoLateralCA | 0 |
AutoWhiteVersion | 134348800 |
BitsPerSample | 8 |
Blacks2012 | +18 |
BlueHue | 0 |
BlueSaturation | 0 |
By-line | Zoltan Tot |
CameraProfile | Adobe Standard |
CFAPattern | [Red,Green][Green,Blue] |
CircleOfConfusion | 0.030 mm |
Clarity2012 | +21 |
ColorComponents | 3 |
ColorMode | RGB |
ColorNoiseReduction | 25 |
ColorNoiseReductionDetail | 50 |
ColorNoiseReductionSmoothness | 50 |
ColorSpace | Uncalibrated |
ColorTemperature | 5800 |
ColorTransform | YCbCr |
Contrast | Normal |
Contrast2012 | -3 |
ConvertToGrayscale | False |
Copyright | Zoltan ToT |
CopyrightNotice | Zoltan ToT |
CreateDate | 2014:06:29 19:23:33 |
Creator | Zoltan Tot |
CreatorTool | Ver.1.01 |
CropAngle | -0.481466 |
CropBottom | 0.917411 |
CropConstrainToWarp | 1 |
CropLeft | 0.001256 |
CropRight | 0.998909 |
CropTop | 0.154269 |
CustomRendered | Normal |
DateCreated (1) | 2014:06:29 |
DateCreated | 2014:06:29 19:23:33.004 |
DateTimeOriginal | 2014:06:29 19:23:33 |
DefringeGreenAmount | 0 |
DefringeGreenHueHi | 60 |
DefringeGreenHueLo | 40 |
DefringePurpleAmount | 0 |
DefringePurpleHueHi | 70 |
DefringePurpleHueLo | 30 |
DigitalZoomRatio | 1 |
DOF | inf (3.42 m - inf) |
ExifImageHeight | 3115 |
ExifImageWidth | 5976 |
Exposure2012 | +0.35 |
ExposureCompensation | 0 |
ExposureMode | Auto |
ExposureProgram | Aperture-priority AE |
ExposureTime | 1/2500 |
Flash | Off, Did not fire |
FNumber | 5.6 |
FocalLength | 24.0 mm |
FocalLength35efl | 24.0 mm (35 mm equivalent: 24.0 mm) |
FocalLengthIn35mmFormat | 24 mm |
Format | image/jpeg |
FOV | 73.7 deg |
GainControl | High gain up |
GradientBasedCorrActive | true |
GradientBasedCorrAmount | 1.000000 |
GradientBasedCorrBrightness | 0.000000 |
GradientBasedCorrClarity | 0.000000 |
GradientBasedCorrClarity2012 | 0.610000 |
GradientBasedCorrContrast | 0.000000 |
GradientBasedCorrContrast2012 | 0.520000 |
GradientBasedCorrDefringe | 0.000000 |
GradientBasedCorrExposure | 0.000000 |
GradientBasedCorrExposure2012 | -0.375000 |
GradientBasedCorrHighlights2012 | -0.370000 |
GradientBasedCorrHue | 228.000000 |
GradientBasedCorrLuminanceNoise | 0.000000 |
GradientBasedCorrMaskFullX | 0.451569 |
GradientBasedCorrMaskFullY | 0.139933 |
GradientBasedCorrMaskValue | 1.000000 |
GradientBasedCorrMaskWhat | Mask/Gradient |
GradientBasedCorrMaskZeroX | 0.451998 |
GradientBasedCorrMaskZeroY | 0.732176 |
GradientBasedCorrMoire | 0.000000 |
GradientBasedCorrSaturation (1) | 0.810000 |
GradientBasedCorrSaturation | 0.000000 |
GradientBasedCorrShadows2012 | -0.900000 |
GradientBasedCorrSharpness | 0.210000 |
GradientBasedCorrTemperature | -0.200000 |
GradientBasedCorrTint | 0.000000 |
GradientBasedCorrWhat | Correction |
GrainAmount | 0 |
GreenHue | 0 |
GreenSaturation | 0 |
HasCrop | True |
HasExtendedXMP | F012E0FB3D60E7EE65A5A924F99C7774 |
HasSettings | True |
Highlights2012 | -100 |
HueAdjustmentAqua | 0 |
HueAdjustmentBlue | 0 |
HueAdjustmentGreen | 0 |
HueAdjustmentMagenta | 0 |
HueAdjustmentOrange | 0 |
HueAdjustmentPurple | 0 |
HueAdjustmentRed | 0 |
HueAdjustmentYellow | 0 |
HyperfocalDistance | 3.42 m |
ICCProfileName | Adobe RGB (1998) |
ImageHeight | 3115 |
ImageNumber | 4630 |
ImageSize | 5976x3115 |
ImageWidth | 5976 |
ISO | 1600 |
Lens | 24.0-85.0 mm f/3.5-4.5 |
LensID (1) | 180 |
LensID | AF-S Zoom-Nikkor 24-85mm f/3.5-4.5G IF-ED VR |
LensInfo | 24-85mm f/3.5-4.5 |
LensManualDistortionAmount | 0 |
LensModel | 24.0-85.0 mm f/3.5-4.5 |
LensProfileEnable | 0 |
LensProfileSetup | LensDefaults |
LightSource | Unknown |
LightValue | 12.3 |
LuminanceAdjustmentAqua | -10 |
LuminanceAdjustmentBlue | -42 |
LuminanceAdjustmentGreen | +66 |
LuminanceAdjustmentMagenta | 0 |
LuminanceAdjustmentOrange | -23 |
LuminanceAdjustmentPurple | 0 |
LuminanceAdjustmentRed | 0 |
LuminanceAdjustmentYellow | -23 |
LuminanceNoiseReductionContrast | 0 |
LuminanceNoiseReductionDetail | 10 |
LuminanceSmoothing | 20 |
Make | NIKON CORPORATION |
MaxApertureValue | 3.5 |
Megapixels | 18.6 |
MeteringMode | Multi-segment |
Model | NIKON D600 |
ModifyDate (1) | 2014:06:30 18:42:31+02:00 |
ModifyDate | 2014:06:30 18:42:31 |
Orientation | Horizontal (normal) |
PaintCorrectionActive | true |
PaintCorrectionAmount | 1.000000 |
PaintCorrectionBrightness | 0.000000 |
PaintCorrectionClarity | 0.000000 |
PaintCorrectionClarity2012 (1) | 0.580000 |
PaintCorrectionClarity2012 (2) | 0.100000 |
PaintCorrectionClarity2012 (3) | 0.540000 |
PaintCorrectionClarity2012 (4) | 0.040000 |
PaintCorrectionClarity2012 | 0.120000 |
PaintCorrectionContrast | 0.000000 |
PaintCorrectionContrast2012 (2) | -0.010000 |
PaintCorrectionContrast2012 (3) | 0.060000 |
PaintCorrectionContrast2012 (4) | 0.000000 |
PaintCorrectionContrast2012 | -0.180000 |
PaintCorrectionDefringe (2) | 0.240000 |
PaintCorrectionDefringe | 0.000000 |
PaintCorrectionExposure | 0.000000 |
PaintCorrectionExposure2012 (1) | -0.112500 |
PaintCorrectionExposure2012 (2) | -0.100000 |
PaintCorrectionExposure2012 (3) | 0.475000 |
PaintCorrectionExposure2012 (4) | -0.012500 |
PaintCorrectionExposure2012 | 0.287500 |
PaintCorrectionHighlights2012 (1) | 0.650000 |
PaintCorrectionHighlights2012 (3) | -0.570000 |
PaintCorrectionHighlights2012 (4) | -0.910000 |
PaintCorrectionHighlights2012 | -0.530000 |
PaintCorrectionHue | 228.000000 |
PaintCorrectionLuminanceNoise | 0.000000 |
PaintCorrectionMaskCenterWeight (1) | 0.214349 |
PaintCorrectionMaskCenterWeight (53) | 0.052200 |
PaintCorrectionMaskCenterWeight | 0.349837 |
PaintCorrectionMaskFlow | 0.888889 |
PaintCorrectionMaskRadius (19) | 0.043295 |
PaintCorrectionMaskRadius (39) | 0.074331 |
PaintCorrectionMaskRadius (53) | 0.215474 |
PaintCorrectionMaskRadius (58) | 0.079847 |
PaintCorrectionMaskRadius (6) | 0.048112 |
PaintCorrectionMaskRadius (7) | 0.144161 |
PaintCorrectionMaskRadius | 0.041765 |
PaintCorrectionMaskValue (20) | 1.000000 |
PaintCorrectionMaskValue | 0.000000 |
PaintCorrectionMaskWhat | Mask/Paint |
PaintCorrectionMoire | 0.000000 |
PaintCorrectionSaturation (1) | 0.740000 |
PaintCorrectionSaturation (3) | -0.150000 |
PaintCorrectionSaturation (5) | 0.220000 |
PaintCorrectionSaturation (7) | 0.510000 |
PaintCorrectionSaturation (9) | 0.160000 |
PaintCorrectionSaturation | 0.000000 |
PaintCorrectionShadows2012 (1) | 0.530000 |
PaintCorrectionShadows2012 (2) | 0.220000 |
PaintCorrectionShadows2012 (3) | -0.270000 |
PaintCorrectionShadows2012 (4) | 0.250000 |
PaintCorrectionShadows2012 | -0.660000 |
PaintCorrectionSharpness (2) | 0.810000 |
PaintCorrectionSharpness (3) | 0.210000 |
PaintCorrectionSharpness | 0.000000 |
PaintCorrectionTemperature (1) | 0.370000 |
PaintCorrectionTemperature (2) | 0.000000 |
PaintCorrectionTemperature (4) | 0.300000 |
PaintCorrectionTemperature | 0.360000 |
PaintCorrectionTint (3) | -0.100000 |
PaintCorrectionTint | 0.000000 |
PaintCorrectionWhat | Correction |
ParametricDarks | -22 |
ParametricHighlights | -88 |
ParametricHighlightSplit | 75 |
ParametricLights | +47 |
ParametricMidtoneSplit | 50 |
ParametricShadows | +40 |
ParametricShadowSplit | 25 |
PerspectiveAspect | 0 |
PerspectiveHorizontal | 0 |
PerspectiveRotate | 0.0 |
PerspectiveScale | 100 |
PerspectiveUpright | 0 |
PerspectiveVertical | 0 |
PostCropVignetteAmount | 0 |
ProcessVersion | 6.7 |
ProfileDescription | Adobe RGB (1998) |
Rating | 0 |
RawFileName | DSC_4304.NEF |
RedHue | 0 |
RedSaturation | 0 |
Rights | Zoltan ToT |
Saturation (1) | +37 |
Saturation | Normal |
SaturationAdjustmentAqua | 0 |
SaturationAdjustmentBlue | 0 |
SaturationAdjustmentGreen | 0 |
SaturationAdjustmentMagenta | 0 |
SaturationAdjustmentOrange | +57 |
SaturationAdjustmentPurple | 0 |
SaturationAdjustmentRed | 0 |
SaturationAdjustmentYellow | +11 |
ScaleFactor35efl | 1.0 |
SceneCaptureType | Standard |
SceneType | Directly photographed |
SensingMethod | One-chip color area |
SensitivityType | Recommended Exposure Index |
SerialNumber | 6015639 |
Shadows2012 | +22 |
ShadowTint | 0 |
SharpenDetail | 1 |
SharpenEdgeMasking | 83 |
SharpenRadius | +0.5 |
Sharpness (1) | 138 |
Sharpness | Normal |
ShutterSpeed | 1/2500 |
ShutterSpeedValue | 1/2500 |
Software | Adobe Photoshop CC 2014 (Macintosh) |
SplitToningBalance | 0 |
SplitToningHighlightHue | 0 |
SplitToningHighlightSaturation | 0 |
SplitToningShadowHue | 0 |
SplitToningShadowSaturation | 0 |
SubjectDistanceRange | Unknown |
Tint | +5 |
ToneCurve | 0, 0, 32, 22, 64, 56, 128, 128, 192, 196, 255, 255 |
ToneCurveBlue | 0, 0, 255, 255 |
ToneCurveGreen | 0, 0, 255, 255 |
ToneCurveName | Medium Contrast |
ToneCurveName2012 | Linear |
ToneCurvePV2012 | 0, 0, 255, 255 |
ToneCurvePV2012Blue | 0, 0, 255, 255 |
ToneCurvePV2012Green | 0, 0, 255, 255 |
ToneCurvePV2012Red | 0, 0, 255, 255 |
ToneCurveRed | 0, 0, 255, 255 |
URL_List | |
Version | 8.5 |
Vibrance | +20 |
VignetteAmount | +61 |
VignetteMidpoint | 39 |
WhiteBalance (1) | Custom |
WhiteBalance | Manual |
Whites2012 | -91 |