Felt | Verdi |
AlreadyApplied | True |
Aperture | 1.4 |
ApertureValue | 1.4 |
ApproximateFocusDistance | 0.64 |
Artist | Knut Inge Ertesvaag |
AutoLateralCA | 1 |
AutoWhiteVersion | 134348800 |
BitsPerSample | 8 |
Blacks2012 | -14 |
BlueHue | 0 |
BlueSaturation | 0 |
By-line | Knut Inge Ertesvaag |
CameraProfile | Adobe Standard |
CircleOfConfusion | 0.019 mm |
Clarity2012 | +48 |
ColorComponents | 3 |
ColorNoiseReduction | 25 |
ColorNoiseReductionDetail | 50 |
ColorNoiseReductionSmoothness | 50 |
ColorSpace | sRGB |
ColorTemperature | 4857 |
ColorTransform | YCbCr |
Contrast2012 | +24 |
ConvertToGrayscale | False |
Copyright | kiert@online.no |
CopyrightNotice | kiert@online.no |
Country | Norway |
Country-PrimaryLocationName | Norway |
CreateDate (1) | 2014:06:13 19:23:47.00 |
CreateDate | 2014:06:13 19:23:47 |
Creator | Knut Inge Ertesvaag |
CreatorTool | Adobe Photoshop Lightroom 5.4 (Windows) |
CropAngle | 0 |
CropBottom | 0.852339 |
CropConstrainToWarp | 1 |
CropLeft | 0.222222 |
CropRight | 0.839181 |
CropTop | 0.223684 |
CustomRendered | Normal |
DateCreated (1) | 2014:06:13 |
DateCreated | 2014:06:13 19:23:47.00 |
DateTimeOriginal | 2014:06:13 19:23:47 |
DefringeGreenAmount | 0 |
DefringeGreenHueHi | 60 |
DefringeGreenHueLo | 40 |
DefringePurpleAmount | 0 |
DefringePurpleHueHi | 70 |
DefringePurpleHueLo | 30 |
DOF | 0.008 m (0.636 - 0.644 m) |
Exposure2012 | -0.71 |
ExposureCompensation | 0 |
ExposureMode | Auto |
ExposureProgram | Aperture-priority AE |
ExposureTime | 1/3200 |
Firmware | 1.1.3 |
Flash | Off, Did not fire |
FlashCompensation | 0 |
FNumber | 1.4 |
FocalLength | 50.0 mm |
FocalLength35efl | 50.0 mm (35 mm equivalent: 80.6 mm) |
Format | image/jpeg |
FOV | 25.2 deg |
GPSAltitude (1) | 25.1 m |
GPSAltitude | 25.1 m Above Sea Level |
GPSAltitudeRef | Above Sea Level |
GPSDateStamp | 2014:06:13 |
GPSDateTime | 2014:06:13 17:23:35Z |
GPSDOP | 50 |
GPSLatitude (1) | 62 deg 21' 41.97" |
GPSLatitude | 62 deg 21' 41.97" N |
GPSLatitudeRef | North |
GPSLongitude (1) | 6 deg 0' 17.14" |
GPSLongitude | 6 deg 0' 17.14" E |
GPSLongitudeRef | East |
GPSMapDatum | WGS-84 |
GPSMeasureMode | 3-Dimensional Measurement |
GPSPosition | 62 deg 21' 41.97" N, 6 deg 0' 17.14" E |
GPSSatellites | 10 |
GPSStatus | Measurement Active |
GPSTimeStamp | 17:23:35 |
GPSVersionID | 2.3.0.0 |
GrainAmount | 24 |
GrainFrequency | 50 |
GrainSize | 25 |
GreenHue | 0 |
GreenSaturation | 0 |
HasCrop | True |
HasSettings | True |
Highlights2012 | -29 |
HueAdjustmentAqua | -36 |
HueAdjustmentBlue | -36 |
HueAdjustmentGreen | +9 |
HueAdjustmentMagenta | -98 |
HueAdjustmentOrange | +20 |
HueAdjustmentPurple | +71 |
HueAdjustmentRed | 0 |
HueAdjustmentYellow | +11 |
HyperfocalDistance | 95.77 m |
ImageHeight | 2293 |
ImageNumber | 0 |
ImageSize | 3376x2293 |
ImageWidth | 3376 |
ISO | 100 |
Lens | 50mm |
LensID (1) | 180 |
LensID | Sigma 50mm f/1.4 DG HSM | A or Zeiss Milvus 50mm f/1.4 or Sigma 50mm f/1.5 FF High-Speed Prime | 017 or Tokina Opera 50mm f/1.4 FF |
LensInfo | 50mm f/? |
LensManualDistortionAmount | 0 |
LensModel | 50mm |
LensProfileChromaticAberrationScale | 100 |
LensProfileDistortionScale | 100 |
LensProfileEnable | 1 |
LensProfileFilename | Canon (Sigma_50mm_F1.4_EX_DG_HSM ) - RAW.lcp |
LensProfileName | Adobe (SIGMA 50mm F1.4 EX DG HSM, Canon) |
LensProfileSetup | Custom |
LensProfileVignettingScale | 100 |
LensSerialNumber | 0000000000 |
LightValue | 12.6 |
LuminanceAdjustmentAqua | 0 |
LuminanceAdjustmentBlue | 0 |
LuminanceAdjustmentGreen | 0 |
LuminanceAdjustmentMagenta | 0 |
LuminanceAdjustmentOrange | 0 |
LuminanceAdjustmentPurple | 0 |
LuminanceAdjustmentRed | 0 |
LuminanceAdjustmentYellow | 0 |
LuminanceSmoothing | 0 |
Make | Canon |
MaxApertureValue | 1.4 |
Megapixels | 7.7 |
MeteringMode | Multi-segment |
Model | Canon EOS 6D |
ModifyDate (1) | 2014:06:13 22:35:08+02:00 |
ModifyDate | 2014:06:13 22:35:08 |
ParametricDarks | 0 |
ParametricHighlights | 0 |
ParametricHighlightSplit | 75 |
ParametricLights | 0 |
ParametricMidtoneSplit | 50 |
ParametricShadows | 0 |
ParametricShadowSplit | 25 |
PerspectiveAspect | 0 |
PerspectiveHorizontal | 0 |
PerspectiveRotate | 0.0 |
PerspectiveScale | 100 |
PerspectiveUpright | 0 |
PerspectiveVertical | 0 |
PostCropVignetteAmount | -33 |
PostCropVignetteFeather | 69 |
PostCropVignetteHighlightContrast | 48 |
PostCropVignetteMidpoint | 65 |
PostCropVignetteRoundness | -19 |
PostCropVignetteStyle | 1 |
ProcessVersion | 6.7 |
ProfileDescription | sRGB IEC61966-2.1 |
Province-State | Møre og Romsdal |
RecommendedExposureIndex | 100 |
RedHue | 0 |
RedSaturation | 0 |
Rights | kiert@online.no |
Saturation | +7 |
SaturationAdjustmentAqua | 0 |
SaturationAdjustmentBlue | 0 |
SaturationAdjustmentGreen | 0 |
SaturationAdjustmentMagenta | 0 |
SaturationAdjustmentOrange | 0 |
SaturationAdjustmentPurple | 0 |
SaturationAdjustmentRed | 0 |
SaturationAdjustmentYellow | 0 |
ScaleFactor35efl | 1.6 |
SceneCaptureType | Standard |
SensitivityType | Recommended Exposure Index |
SerialNumber | 033024006636 |
Shadows2012 | +100 |
ShadowTint | 0 |
SharpenDetail | 25 |
SharpenEdgeMasking | 0 |
SharpenRadius | +1.0 |
Sharpness | 25 |
ShutterSpeed | 1/3200 |
ShutterSpeedValue | 1/3200 |
Software | Adobe Photoshop Lightroom 5.4 (Windows) |
SplitToningBalance | 0 |
SplitToningHighlightHue | 0 |
SplitToningHighlightSaturation | 0 |
SplitToningShadowHue | 0 |
SplitToningShadowSaturation | 0 |
State | Møre og Romsdal |
Tint | +7 |
ToneCurve | 0, 0, 255, 255 |
ToneCurveBlue | 0, 0, 255, 255 |
ToneCurveGreen | 0, 0, 255, 255 |
ToneCurveName | Linear |
ToneCurveName2012 | Linear |
ToneCurvePV2012 | 0, 0, 255, 255 |
ToneCurvePV2012Blue | 0, 0, 255, 255 |
ToneCurvePV2012Green | 0, 0, 255, 255 |
ToneCurvePV2012Red | 0, 0, 255, 255 |
ToneCurveRed | 0, 0, 255, 255 |
Version | 8.4 |
Vibrance | +10 |
VignetteAmount | 0 |
WhiteBalance (1) | Custom |
WhiteBalance | Manual |
Whites2012 | +19 |